BEGIN:VCALENDAR
VERSION:2.0
PRODID:-//Michigan Islamic Academy - ECPv6.15.17.1//NONSGML v1.0//EN
CALSCALE:GREGORIAN
METHOD:PUBLISH
X-WR-CALNAME:Michigan Islamic Academy
X-ORIGINAL-URL:https://www.mia-aa.org
X-WR-CALDESC:Events for Michigan Islamic Academy
REFRESH-INTERVAL;VALUE=DURATION:PT1H
X-Robots-Tag:noindex
X-PUBLISHED-TTL:PT1H
BEGIN:VTIMEZONE
TZID:America/New_York
BEGIN:DAYLIGHT
TZOFFSETFROM:-0500
TZOFFSETTO:-0400
TZNAME:EDT
DTSTART:20230312T070000
END:DAYLIGHT
BEGIN:STANDARD
TZOFFSETFROM:-0400
TZOFFSETTO:-0500
TZNAME:EST
DTSTART:20231105T060000
END:STANDARD
BEGIN:DAYLIGHT
TZOFFSETFROM:-0500
TZOFFSETTO:-0400
TZNAME:EDT
DTSTART:20240310T070000
END:DAYLIGHT
BEGIN:STANDARD
TZOFFSETFROM:-0400
TZOFFSETTO:-0500
TZNAME:EST
DTSTART:20241103T060000
END:STANDARD
BEGIN:DAYLIGHT
TZOFFSETFROM:-0500
TZOFFSETTO:-0400
TZNAME:EDT
DTSTART:20250309T070000
END:DAYLIGHT
BEGIN:STANDARD
TZOFFSETFROM:-0400
TZOFFSETTO:-0500
TZNAME:EST
DTSTART:20251102T060000
END:STANDARD
BEGIN:DAYLIGHT
TZOFFSETFROM:-0500
TZOFFSETTO:-0400
TZNAME:EDT
DTSTART:20260308T070000
END:DAYLIGHT
BEGIN:STANDARD
TZOFFSETFROM:-0400
TZOFFSETTO:-0500
TZNAME:EST
DTSTART:20261101T060000
END:STANDARD
END:VTIMEZONE
BEGIN:VEVENT
DTSTART;TZID=America/New_York:20250930T084500
DTEND;TZID=America/New_York:20250930T100000
DTSTAMP:20260426T000013
CREATED:20250901T211353Z
LAST-MODIFIED:20250922T133213Z
UID:10000327-1759221900-1759226400@www.mia-aa.org
SUMMARY:PTO and Coffee with the Principal
DESCRIPTION:
URL:https://www.mia-aa.org/event/pto-cwtp-2
LOCATION:Multi-Purpose Room
END:VEVENT
BEGIN:VEVENT
DTSTART;TZID=America/New_York:20250527T084500
DTEND;TZID=America/New_York:20250527T094500
DTSTAMP:20260426T000013
CREATED:20240910T033130Z
LAST-MODIFIED:20240910T033825Z
UID:10000149-1748335500-1748339100@www.mia-aa.org
SUMMARY:PTO Meeting/Coffee with the Principal
DESCRIPTION:
URL:https://www.mia-aa.org/event/pto-meeting-coffee-with-the-principal/2025-05-27
LOCATION:Multi-Purpose Room
END:VEVENT
BEGIN:VEVENT
DTSTART;TZID=America/New_York:20250429T084500
DTEND;TZID=America/New_York:20250429T094500
DTSTAMP:20260426T000013
CREATED:20240910T033130Z
LAST-MODIFIED:20240910T033825Z
UID:10000148-1745916300-1745919900@www.mia-aa.org
SUMMARY:PTO Meeting/Coffee with the Principal
DESCRIPTION:
URL:https://www.mia-aa.org/event/pto-meeting-coffee-with-the-principal/2025-04-29
LOCATION:Multi-Purpose Room
END:VEVENT
BEGIN:VEVENT
DTSTART;TZID=America/New_York:20250225T084500
DTEND;TZID=America/New_York:20250225T094500
DTSTAMP:20260426T000013
CREATED:20240910T033130Z
LAST-MODIFIED:20240910T033825Z
UID:10000146-1740473100-1740476700@www.mia-aa.org
SUMMARY:PTO Meeting/Coffee with the Principal
DESCRIPTION:
URL:https://www.mia-aa.org/event/pto-meeting-coffee-with-the-principal/2025-02-25
LOCATION:Multi-Purpose Room
END:VEVENT
BEGIN:VEVENT
DTSTART;TZID=America/New_York:20250128T084500
DTEND;TZID=America/New_York:20250128T094500
DTSTAMP:20260426T000013
CREATED:20240910T033130Z
LAST-MODIFIED:20240910T033825Z
UID:10000145-1738053900-1738057500@www.mia-aa.org
SUMMARY:PTO Meeting/Coffee with the Principal
DESCRIPTION:
URL:https://www.mia-aa.org/event/pto-meeting-coffee-with-the-principal/2025-01-28
LOCATION:Multi-Purpose Room
END:VEVENT
BEGIN:VEVENT
DTSTART;TZID=America/New_York:20241218T084500
DTEND;TZID=America/New_York:20241218T094500
DTSTAMP:20260426T000013
CREATED:20240910T033655Z
LAST-MODIFIED:20241219T022119Z
UID:10000144-1734511500-1734515100@www.mia-aa.org
SUMMARY:PTO Meeting/Coffee with the Principal
DESCRIPTION:
URL:https://www.mia-aa.org/event/pto-meeting-coffee-with-the-principal-3
LOCATION:Multi-Purpose Room
END:VEVENT
BEGIN:VEVENT
DTSTART;TZID=America/New_York:20241126T084500
DTEND;TZID=America/New_York:20241126T094500
DTSTAMP:20260426T000013
CREATED:20240910T033130Z
LAST-MODIFIED:20240910T033825Z
UID:10000137-1732610700-1732614300@www.mia-aa.org
SUMMARY:PTO Meeting/Coffee with the Principal
DESCRIPTION:
URL:https://www.mia-aa.org/event/pto-meeting-coffee-with-the-principal/2024-11-26
LOCATION:Multi-Purpose Room
END:VEVENT
BEGIN:VEVENT
DTSTART;TZID=America/New_York:20241029T084500
DTEND;TZID=America/New_York:20241029T094500
DTSTAMP:20260426T000013
CREATED:20240910T033130Z
LAST-MODIFIED:20240910T033825Z
UID:10000136-1730191500-1730195100@www.mia-aa.org
SUMMARY:PTO Meeting/Coffee with the Principal
DESCRIPTION:
URL:https://www.mia-aa.org/event/pto-meeting-coffee-with-the-principal/2024-10-29
LOCATION:Multi-Purpose Room
END:VEVENT
BEGIN:VEVENT
DTSTART;TZID=America/New_York:20240924T084500
DTEND;TZID=America/New_York:20240924T094500
DTSTAMP:20260426T000013
CREATED:20240910T033130Z
LAST-MODIFIED:20240910T033825Z
UID:10000135-1727167500-1727171100@www.mia-aa.org
SUMMARY:PTO Meeting/Coffee with the Principal
DESCRIPTION:
URL:https://www.mia-aa.org/event/pto-meeting-coffee-with-the-principal/2024-09-24
LOCATION:Multi-Purpose Room
END:VEVENT
END:VCALENDAR