BEGIN:VCALENDAR
VERSION:2.0
PRODID:-//Michigan Islamic Academy - ECPv6.15.17.1//NONSGML v1.0//EN
CALSCALE:GREGORIAN
METHOD:PUBLISH
X-ORIGINAL-URL:https://www.mia-aa.org
X-WR-CALDESC:Events for Michigan Islamic Academy
REFRESH-INTERVAL;VALUE=DURATION:PT1H
X-Robots-Tag:noindex
X-PUBLISHED-TTL:PT1H
BEGIN:VTIMEZONE
TZID:America/New_York
BEGIN:DAYLIGHT
TZOFFSETFROM:-0500
TZOFFSETTO:-0400
TZNAME:EDT
DTSTART:20250309T070000
END:DAYLIGHT
BEGIN:STANDARD
TZOFFSETFROM:-0400
TZOFFSETTO:-0500
TZNAME:EST
DTSTART:20251102T060000
END:STANDARD
BEGIN:DAYLIGHT
TZOFFSETFROM:-0500
TZOFFSETTO:-0400
TZNAME:EDT
DTSTART:20260308T070000
END:DAYLIGHT
BEGIN:STANDARD
TZOFFSETFROM:-0400
TZOFFSETTO:-0500
TZNAME:EST
DTSTART:20261101T060000
END:STANDARD
BEGIN:DAYLIGHT
TZOFFSETFROM:-0500
TZOFFSETTO:-0400
TZNAME:EDT
DTSTART:20270314T070000
END:DAYLIGHT
BEGIN:STANDARD
TZOFFSETFROM:-0400
TZOFFSETTO:-0500
TZNAME:EST
DTSTART:20271107T060000
END:STANDARD
END:VTIMEZONE
BEGIN:VEVENT
DTSTART;VALUE=DATE:20260601
DTEND;VALUE=DATE:20260602
DTSTAMP:20260424T154235
CREATED:20250429T212219Z
LAST-MODIFIED:20250429T212219Z
UID:10000306-1780272000-1780358399@www.mia-aa.org
SUMMARY:Offsite Study Day - MS/HS
DESCRIPTION:
URL:https://www.mia-aa.org/event/offsite-study-day-ms-hs-2
END:VEVENT
BEGIN:VEVENT
DTSTART;VALUE=DATE:20260602
DTEND;VALUE=DATE:20260605
DTSTAMP:20260424T154235
CREATED:20250429T212305Z
LAST-MODIFIED:20250429T212305Z
UID:10000307-1780358400-1780617599@www.mia-aa.org
SUMMARY:Second Semester Exams - Middle and High School
DESCRIPTION:
URL:https://www.mia-aa.org/event/second-semester-exams-middle-and-high-school-2
END:VEVENT
BEGIN:VEVENT
DTSTART;VALUE=DATE:20260604
DTEND;VALUE=DATE:20260605
DTSTAMP:20260424T154235
CREATED:20250429T212342Z
LAST-MODIFIED:20250429T212342Z
UID:10000308-1780531200-1780617599@www.mia-aa.org
SUMMARY:Grade 5 Graduation and Elementary Celebration
DESCRIPTION:
URL:https://www.mia-aa.org/event/grade-5-graduation-and-elementary-celebration
END:VEVENT
BEGIN:VEVENT
DTSTART;VALUE=DATE:20260604
DTEND;VALUE=DATE:20260605
DTSTAMP:20260424T154235
CREATED:20250805T201731Z
LAST-MODIFIED:20250805T201731Z
UID:10000324-1780531200-1780617599@www.mia-aa.org
SUMMARY:Grade 8 Graduation
DESCRIPTION:
URL:https://www.mia-aa.org/event/grade-8-graduation
END:VEVENT
BEGIN:VEVENT
DTSTART;TZID=America/New_York:20260604T123000
DTEND;TZID=America/New_York:20260604T123000
DTSTAMP:20260424T154235
CREATED:20250429T212427Z
LAST-MODIFIED:20250429T212427Z
UID:10000309-1780576200-1780576200@www.mia-aa.org
SUMMARY:Early Dismissal for All Students
DESCRIPTION:
URL:https://www.mia-aa.org/event/early-dismissal-for-all-students-4
END:VEVENT
BEGIN:VEVENT
DTSTART;VALUE=DATE:20260605
DTEND;VALUE=DATE:20260606
DTSTAMP:20260424T154235
CREATED:20250429T212506Z
LAST-MODIFIED:20260413T160700Z
UID:10000310-1780617600-1780703999@www.mia-aa.org
SUMMARY:End of the Year Field Trip: Heritage Park
DESCRIPTION:
URL:https://www.mia-aa.org/event/end-of-the-year-field-trip-2
END:VEVENT
BEGIN:VEVENT
DTSTART;VALUE=DATE:20260605
DTEND;VALUE=DATE:20260606
DTSTAMP:20260424T154235
CREATED:20250429T212540Z
LAST-MODIFIED:20250429T212540Z
UID:10000311-1780617600-1780703999@www.mia-aa.org
SUMMARY:Last Day of School
DESCRIPTION:
URL:https://www.mia-aa.org/event/last-day-of-school-2
END:VEVENT
BEGIN:VEVENT
DTSTART;VALUE=DATE:20260612
DTEND;VALUE=DATE:20260613
DTSTAMP:20260424T154235
CREATED:20250429T212615Z
LAST-MODIFIED:20250429T212615Z
UID:10000312-1781222400-1781308799@www.mia-aa.org
SUMMARY:Last Day for Teachers
DESCRIPTION:
URL:https://www.mia-aa.org/event/last-day-for-teachers-2
END:VEVENT
BEGIN:VEVENT
DTSTART;TZID=America/New_York:20260614T093000
DTEND;TZID=America/New_York:20260614T113000
DTSTAMP:20260424T154235
CREATED:20251006T131346Z
LAST-MODIFIED:20251006T131346Z
UID:10000361-1781429400-1781436600@www.mia-aa.org
SUMMARY:Board Meeting
DESCRIPTION:
URL:https://www.mia-aa.org/event/board-meeting-9
END:VEVENT
END:VCALENDAR