BEGIN:VCALENDAR
VERSION:2.0
PRODID:-//Michigan Islamic Academy - ECPv6.15.17.1//NONSGML v1.0//EN
CALSCALE:GREGORIAN
METHOD:PUBLISH
X-WR-CALNAME:Michigan Islamic Academy
X-ORIGINAL-URL:https://www.mia-aa.org
X-WR-CALDESC:Events for Michigan Islamic Academy
REFRESH-INTERVAL;VALUE=DURATION:PT1H
X-Robots-Tag:noindex
X-PUBLISHED-TTL:PT1H
BEGIN:VTIMEZONE
TZID:America/New_York
BEGIN:DAYLIGHT
TZOFFSETFROM:-0500
TZOFFSETTO:-0400
TZNAME:EDT
DTSTART:20240310T070000
END:DAYLIGHT
BEGIN:STANDARD
TZOFFSETFROM:-0400
TZOFFSETTO:-0500
TZNAME:EST
DTSTART:20241103T060000
END:STANDARD
BEGIN:DAYLIGHT
TZOFFSETFROM:-0500
TZOFFSETTO:-0400
TZNAME:EDT
DTSTART:20250309T070000
END:DAYLIGHT
BEGIN:STANDARD
TZOFFSETFROM:-0400
TZOFFSETTO:-0500
TZNAME:EST
DTSTART:20251102T060000
END:STANDARD
BEGIN:DAYLIGHT
TZOFFSETFROM:-0500
TZOFFSETTO:-0400
TZNAME:EDT
DTSTART:20260308T070000
END:DAYLIGHT
BEGIN:STANDARD
TZOFFSETFROM:-0400
TZOFFSETTO:-0500
TZNAME:EST
DTSTART:20261101T060000
END:STANDARD
BEGIN:DAYLIGHT
TZOFFSETFROM:-0500
TZOFFSETTO:-0400
TZNAME:EDT
DTSTART:20270314T070000
END:DAYLIGHT
BEGIN:STANDARD
TZOFFSETFROM:-0400
TZOFFSETTO:-0500
TZNAME:EST
DTSTART:20271107T060000
END:STANDARD
END:VTIMEZONE
BEGIN:VEVENT
DTSTART;TZID=America/New_York:20260111T093000
DTEND;TZID=America/New_York:20260111T113000
DTSTAMP:20260425T081129
CREATED:20251006T131118Z
LAST-MODIFIED:20251006T131118Z
UID:10000356-1768123800-1768131000@www.mia-aa.org
SUMMARY:Board Meeting
DESCRIPTION:
URL:https://www.mia-aa.org/event/board-meeting-4
END:VEVENT
BEGIN:VEVENT
DTSTART;VALUE=DATE:20260109
DTEND;VALUE=DATE:20260110
DTSTAMP:20260425T081129
CREATED:20250429T194216Z
LAST-MODIFIED:20250429T194216Z
UID:10000266-1767916800-1768003199@www.mia-aa.org
SUMMARY:Culture Day
DESCRIPTION:
URL:https://www.mia-aa.org/event/culture-day-2
END:VEVENT
BEGIN:VEVENT
DTSTART;TZID=America/New_York:20260106T113000
DTEND;TZID=America/New_York:20260106T123000
DTSTAMP:20260425T081129
CREATED:20250902T134747Z
LAST-MODIFIED:20250902T134747Z
UID:10000334-1767699000-1767702600@www.mia-aa.org
SUMMARY:Food Pantry
DESCRIPTION:
URL:https://www.mia-aa.org/event/food-pantry-6
END:VEVENT
BEGIN:VEVENT
DTSTART;VALUE=DATE:20260105
DTEND;VALUE=DATE:20260106
DTSTAMP:20260425T081129
CREATED:20250429T194139Z
LAST-MODIFIED:20250805T201023Z
UID:10000265-1767571200-1767657599@www.mia-aa.org
SUMMARY:Beginning of Second Semester & Term 3
DESCRIPTION:
URL:https://www.mia-aa.org/event/beginning-of-second-semester-term-3
END:VEVENT
BEGIN:VEVENT
DTSTART;VALUE=DATE:20260105
DTEND;VALUE=DATE:20260106
DTSTAMP:20260425T081129
CREATED:20250429T194104Z
LAST-MODIFIED:20250805T200627Z
UID:10000264-1767571200-1767657599@www.mia-aa.org
SUMMARY:School Resumes
DESCRIPTION:
URL:https://www.mia-aa.org/event/school-resumes-3
END:VEVENT
BEGIN:VEVENT
DTSTART;VALUE=DATE:20251222
DTEND;VALUE=DATE:20260103
DTSTAMP:20260425T081129
CREATED:20250429T193601Z
LAST-MODIFIED:20250805T200402Z
UID:10000263-1766361600-1767398399@www.mia-aa.org
SUMMARY:Winter Break - No School
DESCRIPTION:
URL:https://www.mia-aa.org/event/winter-break-no-school-2
END:VEVENT
BEGIN:VEVENT
DTSTART;TZID=America/New_York:20251219T123000
DTEND;TZID=America/New_York:20251219T123000
DTSTAMP:20260425T081129
CREATED:20250429T193305Z
LAST-MODIFIED:20250429T193305Z
UID:10000259-1766147400-1766147400@www.mia-aa.org
SUMMARY:Early Dismissal for All Students
DESCRIPTION:
URL:https://www.mia-aa.org/event/early-dismissal-for-all-students-3
END:VEVENT
BEGIN:VEVENT
DTSTART;VALUE=DATE:20251219
DTEND;VALUE=DATE:20251220
DTSTAMP:20260425T081129
CREATED:20250429T193505Z
LAST-MODIFIED:20250429T193505Z
UID:10000262-1766102400-1766188799@www.mia-aa.org
SUMMARY:End of Term 2 & First Semester
DESCRIPTION:
URL:https://www.mia-aa.org/event/end-of-term-2-first-semester
END:VEVENT
BEGIN:VEVENT
DTSTART;VALUE=DATE:20251219
DTEND;VALUE=DATE:20251220
DTSTAMP:20260425T081129
CREATED:20250429T193421Z
LAST-MODIFIED:20250429T193421Z
UID:10000261-1766102400-1766188799@www.mia-aa.org
SUMMARY:Onsite Field Trip - Elementary
DESCRIPTION:
URL:https://www.mia-aa.org/event/onsite-field-trip-elementary-2
END:VEVENT
BEGIN:VEVENT
DTSTART;VALUE=DATE:20251219
DTEND;VALUE=DATE:20251220
DTSTAMP:20260425T081129
CREATED:20250429T193342Z
LAST-MODIFIED:20250429T193342Z
UID:10000260-1766102400-1766188799@www.mia-aa.org
SUMMARY:Spirit Day - MS/HS
DESCRIPTION:
URL:https://www.mia-aa.org/event/spirit-day-ms-hs
END:VEVENT
BEGIN:VEVENT
DTSTART;TZID=America/New_York:20251218T123000
DTEND;TZID=America/New_York:20251218T123000
DTSTAMP:20260425T081129
CREATED:20250429T193223Z
LAST-MODIFIED:20250429T193223Z
UID:10000258-1766061000-1766061000@www.mia-aa.org
SUMMARY:Early Dismissal for All Students
DESCRIPTION:
URL:https://www.mia-aa.org/event/early-dismissal-for-all-students-2
END:VEVENT
BEGIN:VEVENT
DTSTART;TZID=America/New_York:20251217T123000
DTEND;TZID=America/New_York:20251217T123000
DTSTAMP:20260425T081129
CREATED:20250429T193141Z
LAST-MODIFIED:20250429T193141Z
UID:10000257-1765974600-1765974600@www.mia-aa.org
SUMMARY:Early Dismissal for All Students
DESCRIPTION:
URL:https://www.mia-aa.org/event/early-dismissal-for-all-students
END:VEVENT
BEGIN:VEVENT
DTSTART;TZID=America/New_York:20251216T123000
DTEND;TZID=America/New_York:20251216T123000
DTSTAMP:20260425T081129
CREATED:20250805T195955Z
LAST-MODIFIED:20250805T195955Z
UID:10000322-1765888200-1765888200@www.mia-aa.org
SUMMARY:Early Dismissal for All Students
DESCRIPTION:
URL:https://www.mia-aa.org/event/early-dismissal-for-all-students-5
END:VEVENT
BEGIN:VEVENT
DTSTART;VALUE=DATE:20251216
DTEND;VALUE=DATE:20251219
DTSTAMP:20260425T081129
CREATED:20250429T193052Z
LAST-MODIFIED:20250805T195814Z
UID:10000256-1765843200-1766102399@www.mia-aa.org
SUMMARY:NWEA Testing - Elementary Grade 2–5 Only
DESCRIPTION:
URL:https://www.mia-aa.org/event/nwea-testing-elementary-grade-2-5-only-2
END:VEVENT
BEGIN:VEVENT
DTSTART;VALUE=DATE:20251216
DTEND;VALUE=DATE:20251219
DTSTAMP:20260425T081129
CREATED:20250429T193006Z
LAST-MODIFIED:20250805T195459Z
UID:10000255-1765843200-1766102399@www.mia-aa.org
SUMMARY:First Semester Exams - Middle and High School
DESCRIPTION:
URL:https://www.mia-aa.org/event/first-semester-exams-middle-and-high-school-2
END:VEVENT
BEGIN:VEVENT
DTSTART;VALUE=DATE:20251215
DTEND;VALUE=DATE:20251220
DTSTAMP:20260425T081129
CREATED:20250429T192916Z
LAST-MODIFIED:20250429T192916Z
UID:10000254-1765756800-1766188799@www.mia-aa.org
SUMMARY:Spirit Week
DESCRIPTION:
URL:https://www.mia-aa.org/event/spirit-week-2
END:VEVENT
BEGIN:VEVENT
DTSTART;VALUE=DATE:20251215
DTEND;VALUE=DATE:20251220
DTSTAMP:20260425T081129
CREATED:20250429T192727Z
LAST-MODIFIED:20250429T192727Z
UID:10000251-1765756800-1766188799@www.mia-aa.org
SUMMARY:NWEA Elementary Testing
DESCRIPTION:
URL:https://www.mia-aa.org/event/nwea-elementary-testing-3
END:VEVENT
BEGIN:VEVENT
DTSTART;VALUE=DATE:20251215
DTEND;VALUE=DATE:20251216
DTSTAMP:20260425T081129
CREATED:20250429T192838Z
LAST-MODIFIED:20250429T192838Z
UID:10000253-1765756800-1765843199@www.mia-aa.org
SUMMARY:Makers Day: Elementary
DESCRIPTION:
URL:https://www.mia-aa.org/event/makers-day-elementary
END:VEVENT
BEGIN:VEVENT
DTSTART;VALUE=DATE:20251215
DTEND;VALUE=DATE:20251216
DTSTAMP:20260425T081129
CREATED:20250429T192802Z
LAST-MODIFIED:20250429T192802Z
UID:10000252-1765756800-1765843199@www.mia-aa.org
SUMMARY:Offsite Study Day: MS/HS
DESCRIPTION:
URL:https://www.mia-aa.org/event/offsite-study-day-ms-hs
END:VEVENT
BEGIN:VEVENT
DTSTART;TZID=America/New_York:20251214T093000
DTEND;TZID=America/New_York:20251214T113000
DTSTAMP:20260425T081129
CREATED:20251006T131055Z
LAST-MODIFIED:20251006T131055Z
UID:10000355-1765704600-1765711800@www.mia-aa.org
SUMMARY:Board Meeting
DESCRIPTION:
URL:https://www.mia-aa.org/event/board-meeting-3
END:VEVENT
BEGIN:VEVENT
DTSTART;TZID=America/New_York:20251209T090000
DTEND;TZID=America/New_York:20251209T140000
DTSTAMP:20260425T081129
CREATED:20251117T142515Z
LAST-MODIFIED:20251117T142515Z
UID:10000378-1765270800-1765288800@www.mia-aa.org
SUMMARY:Grade 11 Digital Design Workshop UM
DESCRIPTION:
URL:https://www.mia-aa.org/event/grade-11-digital-design-workshop-um
END:VEVENT
BEGIN:VEVENT
DTSTART;VALUE=DATE:20251209
DTEND;VALUE=DATE:20251213
DTSTAMP:20260425T081129
CREATED:20250429T192644Z
LAST-MODIFIED:20250429T192644Z
UID:10000250-1765238400-1765583999@www.mia-aa.org
SUMMARY:NWEA Elementary Testing
DESCRIPTION:
URL:https://www.mia-aa.org/event/nwea-elementary-testing-2
END:VEVENT
BEGIN:VEVENT
DTSTART;TZID=America/New_York:20251206T140000
DTEND;TZID=America/New_York:20251206T170000
DTSTAMP:20260425T081129
CREATED:20250429T192404Z
LAST-MODIFIED:20251005T221945Z
UID:10000246-1765029600-1765040400@www.mia-aa.org
SUMMARY:Fall Fundraiser
DESCRIPTION:
URL:https://www.mia-aa.org/event/fall-fundraiser-2
END:VEVENT
BEGIN:VEVENT
DTSTART;VALUE=DATE:20251204
DTEND;VALUE=DATE:20251205
DTSTAMP:20260425T081129
CREATED:20251130T222812Z
LAST-MODIFIED:20251130T222812Z
UID:10000379-1764806400-1764892799@www.mia-aa.org
SUMMARY:Grade 5 Field Trip - Natural History Museum
DESCRIPTION:
URL:https://www.mia-aa.org/event/grade-5-field-trip-natural-history-museum
END:VEVENT
BEGIN:VEVENT
DTSTART;TZID=America/New_York:20251202T113000
DTEND;TZID=America/New_York:20251202T123000
DTSTAMP:20260425T081129
CREATED:20250902T134715Z
LAST-MODIFIED:20250902T134715Z
UID:10000333-1764675000-1764678600@www.mia-aa.org
SUMMARY:Food Pantry
DESCRIPTION:
URL:https://www.mia-aa.org/event/food-pantry-5
END:VEVENT
BEGIN:VEVENT
DTSTART;VALUE=DATE:20251127
DTEND;VALUE=DATE:20251129
DTSTAMP:20260425T081129
CREATED:20250429T192522Z
LAST-MODIFIED:20250429T192522Z
UID:10000248-1764201600-1764374399@www.mia-aa.org
SUMMARY:Thanksgiving Break - No School
DESCRIPTION:
URL:https://www.mia-aa.org/event/thanksgiving-break-no-school-2
END:VEVENT
BEGIN:VEVENT
DTSTART;TZID=America/New_York:20251126T110000
DTEND;TZID=America/New_York:20251126T220000
DTSTAMP:20260425T081130
CREATED:20251117T135541Z
LAST-MODIFIED:20251117T135541Z
UID:10000377-1764154800-1764194400@www.mia-aa.org
SUMMARY:Good Eats\, Great Cause Event
DESCRIPTION:
URL:https://www.mia-aa.org/event/good-eats-great-cause-event
LOCATION:Burger One
END:VEVENT
BEGIN:VEVENT
DTSTART;VALUE=DATE:20251126
DTEND;VALUE=DATE:20251127
DTSTAMP:20260425T081130
CREATED:20251110T153805Z
LAST-MODIFIED:20251110T153805Z
UID:10000376-1764115200-1764201599@www.mia-aa.org
SUMMARY:Spelling Bee Celebration
DESCRIPTION:
URL:https://www.mia-aa.org/event/spelling-bee-celebration
END:VEVENT
BEGIN:VEVENT
DTSTART;VALUE=DATE:20251125
DTEND;VALUE=DATE:20251126
DTSTAMP:20260425T081130
CREATED:20250429T192442Z
LAST-MODIFIED:20250429T192442Z
UID:10000247-1764028800-1764115199@www.mia-aa.org
SUMMARY:School Spelling Bee
DESCRIPTION:
URL:https://www.mia-aa.org/event/school-spelling-bee-2
END:VEVENT
BEGIN:VEVENT
DTSTART;VALUE=DATE:20251119
DTEND;VALUE=DATE:20251120
DTSTAMP:20260425T081130
CREATED:20250901T211505Z
LAST-MODIFIED:20251110T163346Z
UID:10000329-1763510400-1763596799@www.mia-aa.org
SUMMARY:MS/HS Field Trip - Boys: High Velocity Sports\, Girls: A2 Ice Arena
DESCRIPTION:
URL:https://www.mia-aa.org/event/ms-hs-henry-ford-museum
END:VEVENT
END:VCALENDAR