BEGIN:VCALENDAR
VERSION:2.0
PRODID:-//Michigan Islamic Academy - ECPv6.15.17.1//NONSGML v1.0//EN
CALSCALE:GREGORIAN
METHOD:PUBLISH
X-WR-CALNAME:Michigan Islamic Academy
X-ORIGINAL-URL:https://www.mia-aa.org
X-WR-CALDESC:Events for Michigan Islamic Academy
REFRESH-INTERVAL;VALUE=DURATION:PT1H
X-Robots-Tag:noindex
X-PUBLISHED-TTL:PT1H
BEGIN:VTIMEZONE
TZID:America/New_York
BEGIN:DAYLIGHT
TZOFFSETFROM:-0500
TZOFFSETTO:-0400
TZNAME:EDT
DTSTART:20240310T070000
END:DAYLIGHT
BEGIN:STANDARD
TZOFFSETFROM:-0400
TZOFFSETTO:-0500
TZNAME:EST
DTSTART:20241103T060000
END:STANDARD
BEGIN:DAYLIGHT
TZOFFSETFROM:-0500
TZOFFSETTO:-0400
TZNAME:EDT
DTSTART:20250309T070000
END:DAYLIGHT
BEGIN:STANDARD
TZOFFSETFROM:-0400
TZOFFSETTO:-0500
TZNAME:EST
DTSTART:20251102T060000
END:STANDARD
BEGIN:DAYLIGHT
TZOFFSETFROM:-0500
TZOFFSETTO:-0400
TZNAME:EDT
DTSTART:20260308T070000
END:DAYLIGHT
BEGIN:STANDARD
TZOFFSETFROM:-0400
TZOFFSETTO:-0500
TZNAME:EST
DTSTART:20261101T060000
END:STANDARD
BEGIN:DAYLIGHT
TZOFFSETFROM:-0500
TZOFFSETTO:-0400
TZNAME:EDT
DTSTART:20270314T070000
END:DAYLIGHT
BEGIN:STANDARD
TZOFFSETFROM:-0400
TZOFFSETTO:-0500
TZNAME:EST
DTSTART:20271107T060000
END:STANDARD
END:VTIMEZONE
BEGIN:VEVENT
DTSTART;VALUE=DATE:20260203
DTEND;VALUE=DATE:20260204
DTSTAMP:20260425T115233
CREATED:20260127T045753Z
LAST-MODIFIED:20260127T045753Z
UID:10000387-1770076800-1770163199@www.mia-aa.org
SUMMARY:Honor Roll Recognition Luncheon
DESCRIPTION:
URL:https://www.mia-aa.org/event/honor-roll-recognition-luncheon
END:VEVENT
BEGIN:VEVENT
DTSTART;TZID=America/New_York:20260131T120000
DTEND;TZID=America/New_York:20260131T170000
DTSTAMP:20260425T115233
CREATED:20260127T045338Z
LAST-MODIFIED:20260127T045338Z
UID:10000386-1769860800-1769878800@www.mia-aa.org
SUMMARY:Health Fair
DESCRIPTION:The Future Medical Professionals Club invites families to attend the Care Fair\, a free community event focused on health\, wellness\, and fun for all ages. The fair will take place at the Michigan Islamic Academy Gymnasium on Saturday\, January 31 from noon to 5:00 p.m. Please note that this is a new event date. \nGuests can enjoy complimentary health screenings\, access to a food pantry\, and a variety of family-friendly activities. Offerings will include henna art\, face painting\, balloons\, and interactive trivia games. \nHosted by the Future Medical Professionals Club with support from local health care providers\, the Care Fair aims to bring the community together while supporting students pursuing careers in medicine. Admission is 100 percent free\, and all community members are welcome to attend and show their support for future medical professionals.
URL:https://www.mia-aa.org/event/health-fair
END:VEVENT
BEGIN:VEVENT
DTSTART;TZID=America/New_York:20260130T183000
DTEND;TZID=America/New_York:20260130T183000
DTSTAMP:20260425T115233
CREATED:20260127T050303Z
LAST-MODIFIED:20260127T050303Z
UID:10000392-1769797800-1769797800@www.mia-aa.org
SUMMARY:Boys Basketball vs Central
DESCRIPTION:
URL:https://www.mia-aa.org/event/boys-basketball-vs-central
END:VEVENT
BEGIN:VEVENT
DTSTART;TZID=America/New_York:20260130T170000
DTEND;TZID=America/New_York:20260130T170000
DTSTAMP:20260425T115233
CREATED:20260127T050242Z
LAST-MODIFIED:20260127T050242Z
UID:10000391-1769792400-1769792400@www.mia-aa.org
SUMMARY:Girls Basketball vs Central
DESCRIPTION:
URL:https://www.mia-aa.org/event/girls-basketball-vs-central
END:VEVENT
BEGIN:VEVENT
DTSTART;TZID=America/New_York:20260127T183000
DTEND;TZID=America/New_York:20260127T183000
DTSTAMP:20260425T115233
CREATED:20260127T050210Z
LAST-MODIFIED:20260127T050210Z
UID:10000390-1769538600-1769538600@www.mia-aa.org
SUMMARY:Boys Basketball vs Eton
DESCRIPTION:
URL:https://www.mia-aa.org/event/boys-basketball-vs-eton
END:VEVENT
BEGIN:VEVENT
DTSTART;TZID=America/New_York:20260127T170000
DTEND;TZID=America/New_York:20260127T170000
DTSTAMP:20260425T115233
CREATED:20260127T050130Z
LAST-MODIFIED:20260127T050130Z
UID:10000389-1769533200-1769533200@www.mia-aa.org
SUMMARY:Girls Basketball vs Eton
DESCRIPTION:
URL:https://www.mia-aa.org/event/girls-basketball-vs-eton
END:VEVENT
BEGIN:VEVENT
DTSTART;VALUE=DATE:20260127
DTEND;VALUE=DATE:20260128
DTSTAMP:20260425T115233
CREATED:20260127T045212Z
LAST-MODIFIED:20260127T045212Z
UID:10000385-1769472000-1769558399@www.mia-aa.org
SUMMARY:PTO/CWTP
DESCRIPTION:
URL:https://www.mia-aa.org/event/pto-cwtp-4
END:VEVENT
BEGIN:VEVENT
DTSTART;TZID=America/New_York:20260126T080000
DTEND;TZID=America/New_York:20260126T170000
DTSTAMP:20260425T115233
CREATED:20260127T045823Z
LAST-MODIFIED:20260127T045823Z
UID:10000388-1769414400-1769446800@www.mia-aa.org
SUMMARY:100th Day of School
DESCRIPTION:
URL:https://www.mia-aa.org/event/100th-day-of-school-2
END:VEVENT
BEGIN:VEVENT
DTSTART;VALUE=DATE:20260126
DTEND;VALUE=DATE:20260131
DTSTAMP:20260425T115233
CREATED:20250429T194701Z
LAST-MODIFIED:20250429T194701Z
UID:10000272-1769385600-1769817599@www.mia-aa.org
SUMMARY:Book Fair
DESCRIPTION:
URL:https://www.mia-aa.org/event/book-fair-3
END:VEVENT
BEGIN:VEVENT
DTSTART;TZID=America/New_York:20260125T120000
DTEND;TZID=America/New_York:20260125T170000
DTSTAMP:20260425T115233
CREATED:20260112T094556Z
LAST-MODIFIED:20260112T094556Z
UID:10000382-1769342400-1769360400@www.mia-aa.org
SUMMARY:The Care Fair
DESCRIPTION:
URL:https://www.mia-aa.org/event/the-care-fair
LOCATION:Gym
END:VEVENT
BEGIN:VEVENT
DTSTART;VALUE=DATE:20260123
DTEND;VALUE=DATE:20260124
DTSTAMP:20260425T115233
CREATED:20260120T150305Z
LAST-MODIFIED:20260120T150305Z
UID:10000384-1769126400-1769212799@www.mia-aa.org
SUMMARY:100th Day of School Celebration (Elementary)
DESCRIPTION:
URL:https://www.mia-aa.org/event/100th-day-of-school-celebration-elementary
END:VEVENT
BEGIN:VEVENT
DTSTART;VALUE=DATE:20260122
DTEND;VALUE=DATE:20260123
DTSTAMP:20260425T115233
CREATED:20260112T093053Z
LAST-MODIFIED:20260112T093053Z
UID:10000380-1769040000-1769126399@www.mia-aa.org
SUMMARY:Club Pictures
DESCRIPTION:
URL:https://www.mia-aa.org/event/club-pictures
END:VEVENT
BEGIN:VEVENT
DTSTART;VALUE=DATE:20260122
DTEND;VALUE=DATE:20260123
DTSTAMP:20260425T115233
CREATED:20250429T194624Z
LAST-MODIFIED:20250429T194624Z
UID:10000271-1769040000-1769126399@www.mia-aa.org
SUMMARY:Picture Retakes
DESCRIPTION:
URL:https://www.mia-aa.org/event/picture-retakes-3
END:VEVENT
BEGIN:VEVENT
DTSTART;VALUE=DATE:20260120
DTEND;VALUE=DATE:20260121
DTSTAMP:20260425T115233
CREATED:20250429T194549Z
LAST-MODIFIED:20250429T194549Z
UID:10000270-1768867200-1768953599@www.mia-aa.org
SUMMARY:Elementary Math Marathon
DESCRIPTION:
URL:https://www.mia-aa.org/event/elementary-math-marathon-2
END:VEVENT
BEGIN:VEVENT
DTSTART;VALUE=DATE:20260119
DTEND;VALUE=DATE:20260120
DTSTAMP:20260425T115233
CREATED:20250429T194419Z
LAST-MODIFIED:20250429T194512Z
UID:10000269-1768780800-1768867199@www.mia-aa.org
SUMMARY:MLK Day - No School
DESCRIPTION:
URL:https://www.mia-aa.org/event/mlk-day-no-school
END:VEVENT
BEGIN:VEVENT
DTSTART;VALUE=DATE:20260115
DTEND;VALUE=DATE:20260119
DTSTAMP:20260425T115233
CREATED:20250429T194339Z
LAST-MODIFIED:20250429T194339Z
UID:10000268-1768435200-1768780799@www.mia-aa.org
SUMMARY:MUNUM XXXVIII
DESCRIPTION:
URL:https://www.mia-aa.org/event/munum-xxxviii
LOCATION:UM
END:VEVENT
BEGIN:VEVENT
DTSTART;VALUE=DATE:20260113
DTEND;VALUE=DATE:20260116
DTSTAMP:20260425T115233
CREATED:20250429T194255Z
LAST-MODIFIED:20250429T194255Z
UID:10000267-1768262400-1768521599@www.mia-aa.org
SUMMARY:Qur’an Competition
DESCRIPTION:
URL:https://www.mia-aa.org/event/quran-competition-2
END:VEVENT
BEGIN:VEVENT
DTSTART;TZID=America/New_York:20260111T093000
DTEND;TZID=America/New_York:20260111T113000
DTSTAMP:20260425T115233
CREATED:20251006T131118Z
LAST-MODIFIED:20251006T131118Z
UID:10000356-1768123800-1768131000@www.mia-aa.org
SUMMARY:Board Meeting
DESCRIPTION:
URL:https://www.mia-aa.org/event/board-meeting-4
END:VEVENT
BEGIN:VEVENT
DTSTART;VALUE=DATE:20260109
DTEND;VALUE=DATE:20260110
DTSTAMP:20260425T115233
CREATED:20250429T194216Z
LAST-MODIFIED:20250429T194216Z
UID:10000266-1767916800-1768003199@www.mia-aa.org
SUMMARY:Culture Day
DESCRIPTION:
URL:https://www.mia-aa.org/event/culture-day-2
END:VEVENT
BEGIN:VEVENT
DTSTART;TZID=America/New_York:20260106T113000
DTEND;TZID=America/New_York:20260106T123000
DTSTAMP:20260425T115233
CREATED:20250902T134747Z
LAST-MODIFIED:20250902T134747Z
UID:10000334-1767699000-1767702600@www.mia-aa.org
SUMMARY:Food Pantry
DESCRIPTION:
URL:https://www.mia-aa.org/event/food-pantry-6
END:VEVENT
BEGIN:VEVENT
DTSTART;VALUE=DATE:20260105
DTEND;VALUE=DATE:20260106
DTSTAMP:20260425T115233
CREATED:20250429T194139Z
LAST-MODIFIED:20250805T201023Z
UID:10000265-1767571200-1767657599@www.mia-aa.org
SUMMARY:Beginning of Second Semester & Term 3
DESCRIPTION:
URL:https://www.mia-aa.org/event/beginning-of-second-semester-term-3
END:VEVENT
BEGIN:VEVENT
DTSTART;VALUE=DATE:20260105
DTEND;VALUE=DATE:20260106
DTSTAMP:20260425T115233
CREATED:20250429T194104Z
LAST-MODIFIED:20250805T200627Z
UID:10000264-1767571200-1767657599@www.mia-aa.org
SUMMARY:School Resumes
DESCRIPTION:
URL:https://www.mia-aa.org/event/school-resumes-3
END:VEVENT
BEGIN:VEVENT
DTSTART;VALUE=DATE:20251222
DTEND;VALUE=DATE:20260103
DTSTAMP:20260425T115233
CREATED:20250429T193601Z
LAST-MODIFIED:20250805T200402Z
UID:10000263-1766361600-1767398399@www.mia-aa.org
SUMMARY:Winter Break - No School
DESCRIPTION:
URL:https://www.mia-aa.org/event/winter-break-no-school-2
END:VEVENT
BEGIN:VEVENT
DTSTART;TZID=America/New_York:20251219T123000
DTEND;TZID=America/New_York:20251219T123000
DTSTAMP:20260425T115233
CREATED:20250429T193305Z
LAST-MODIFIED:20250429T193305Z
UID:10000259-1766147400-1766147400@www.mia-aa.org
SUMMARY:Early Dismissal for All Students
DESCRIPTION:
URL:https://www.mia-aa.org/event/early-dismissal-for-all-students-3
END:VEVENT
BEGIN:VEVENT
DTSTART;VALUE=DATE:20251219
DTEND;VALUE=DATE:20251220
DTSTAMP:20260425T115233
CREATED:20250429T193505Z
LAST-MODIFIED:20250429T193505Z
UID:10000262-1766102400-1766188799@www.mia-aa.org
SUMMARY:End of Term 2 & First Semester
DESCRIPTION:
URL:https://www.mia-aa.org/event/end-of-term-2-first-semester
END:VEVENT
BEGIN:VEVENT
DTSTART;VALUE=DATE:20251219
DTEND;VALUE=DATE:20251220
DTSTAMP:20260425T115233
CREATED:20250429T193421Z
LAST-MODIFIED:20250429T193421Z
UID:10000261-1766102400-1766188799@www.mia-aa.org
SUMMARY:Onsite Field Trip - Elementary
DESCRIPTION:
URL:https://www.mia-aa.org/event/onsite-field-trip-elementary-2
END:VEVENT
BEGIN:VEVENT
DTSTART;VALUE=DATE:20251219
DTEND;VALUE=DATE:20251220
DTSTAMP:20260425T115233
CREATED:20250429T193342Z
LAST-MODIFIED:20250429T193342Z
UID:10000260-1766102400-1766188799@www.mia-aa.org
SUMMARY:Spirit Day - MS/HS
DESCRIPTION:
URL:https://www.mia-aa.org/event/spirit-day-ms-hs
END:VEVENT
BEGIN:VEVENT
DTSTART;TZID=America/New_York:20251218T123000
DTEND;TZID=America/New_York:20251218T123000
DTSTAMP:20260425T115233
CREATED:20250429T193223Z
LAST-MODIFIED:20250429T193223Z
UID:10000258-1766061000-1766061000@www.mia-aa.org
SUMMARY:Early Dismissal for All Students
DESCRIPTION:
URL:https://www.mia-aa.org/event/early-dismissal-for-all-students-2
END:VEVENT
BEGIN:VEVENT
DTSTART;TZID=America/New_York:20251217T123000
DTEND;TZID=America/New_York:20251217T123000
DTSTAMP:20260425T115233
CREATED:20250429T193141Z
LAST-MODIFIED:20250429T193141Z
UID:10000257-1765974600-1765974600@www.mia-aa.org
SUMMARY:Early Dismissal for All Students
DESCRIPTION:
URL:https://www.mia-aa.org/event/early-dismissal-for-all-students
END:VEVENT
BEGIN:VEVENT
DTSTART;TZID=America/New_York:20251216T123000
DTEND;TZID=America/New_York:20251216T123000
DTSTAMP:20260425T115233
CREATED:20250805T195955Z
LAST-MODIFIED:20250805T195955Z
UID:10000322-1765888200-1765888200@www.mia-aa.org
SUMMARY:Early Dismissal for All Students
DESCRIPTION:
URL:https://www.mia-aa.org/event/early-dismissal-for-all-students-5
END:VEVENT
END:VCALENDAR