BEGIN:VCALENDAR
VERSION:2.0
PRODID:-//Michigan Islamic Academy - ECPv6.15.17.1//NONSGML v1.0//EN
CALSCALE:GREGORIAN
METHOD:PUBLISH
X-WR-CALNAME:Michigan Islamic Academy
X-ORIGINAL-URL:https://www.mia-aa.org
X-WR-CALDESC:Events for Michigan Islamic Academy
REFRESH-INTERVAL;VALUE=DURATION:PT1H
X-Robots-Tag:noindex
X-PUBLISHED-TTL:PT1H
BEGIN:VTIMEZONE
TZID:America/New_York
BEGIN:DAYLIGHT
TZOFFSETFROM:-0500
TZOFFSETTO:-0400
TZNAME:EDT
DTSTART:20250309T070000
END:DAYLIGHT
BEGIN:STANDARD
TZOFFSETFROM:-0400
TZOFFSETTO:-0500
TZNAME:EST
DTSTART:20251102T060000
END:STANDARD
BEGIN:DAYLIGHT
TZOFFSETFROM:-0500
TZOFFSETTO:-0400
TZNAME:EDT
DTSTART:20260308T070000
END:DAYLIGHT
BEGIN:STANDARD
TZOFFSETFROM:-0400
TZOFFSETTO:-0500
TZNAME:EST
DTSTART:20261101T060000
END:STANDARD
BEGIN:DAYLIGHT
TZOFFSETFROM:-0500
TZOFFSETTO:-0400
TZNAME:EDT
DTSTART:20270314T070000
END:DAYLIGHT
BEGIN:STANDARD
TZOFFSETFROM:-0400
TZOFFSETTO:-0500
TZNAME:EST
DTSTART:20271107T060000
END:STANDARD
END:VTIMEZONE
BEGIN:VEVENT
DTSTART;VALUE=DATE:20260424
DTEND;VALUE=DATE:20260425
DTSTAMP:20260425T081240
CREATED:20260420T132814Z
LAST-MODIFIED:20260420T132814Z
UID:10000411-1776988800-1777075199@www.mia-aa.org
SUMMARY:P2P End of Year Celebration
DESCRIPTION:
URL:https://www.mia-aa.org/event/p2p-end-of-year-celebration
LOCATION:Offsite
END:VEVENT
BEGIN:VEVENT
DTSTART;VALUE=DATE:20260424
DTEND;VALUE=DATE:20260425
DTSTAMP:20260425T081240
CREATED:20250429T210952Z
LAST-MODIFIED:20260408T165348Z
UID:10000289-1776988800-1777075199@www.mia-aa.org
SUMMARY:Boys Gaming/BB Tournament
DESCRIPTION:
URL:https://www.mia-aa.org/event/boys-gaming-bb-tournament-2
END:VEVENT
BEGIN:VEVENT
DTSTART;VALUE=DATE:20260423
DTEND;VALUE=DATE:20260424
DTSTAMP:20260425T081240
CREATED:20260420T133222Z
LAST-MODIFIED:20260420T133222Z
UID:10000414-1776902400-1776988799@www.mia-aa.org
SUMMARY:PSAT 8\,9\,10 and SAT (w/ Essay) Makeup Testing Window Ends
DESCRIPTION:
URL:https://www.mia-aa.org/event/psat-8910-and-sat-w-essay-makeup-testing-window-ends
END:VEVENT
BEGIN:VEVENT
DTSTART;VALUE=DATE:20260423
DTEND;VALUE=DATE:20260424
DTSTAMP:20260425T081240
CREATED:20250429T211337Z
LAST-MODIFIED:20260331T152308Z
UID:10000294-1776902400-1776988799@www.mia-aa.org
SUMMARY:SAT (with essay) & PSAT (grades 8\, 9\, and 10) Makeup Testing Window Ends
DESCRIPTION:
URL:https://www.mia-aa.org/event/sat-with-essay-psat-grades-8-9-and-10-testing-windows-end
END:VEVENT
BEGIN:VEVENT
DTSTART;VALUE=DATE:20260423
DTEND;VALUE=DATE:20260424
DTSTAMP:20260425T081240
CREATED:20250429T211251Z
LAST-MODIFIED:20250429T211251Z
UID:10000293-1776902400-1776988799@www.mia-aa.org
SUMMARY:ACT WorkKeys
DESCRIPTION:
URL:https://www.mia-aa.org/event/act-workkeys-3
END:VEVENT
BEGIN:VEVENT
DTSTART;VALUE=DATE:20260422
DTEND;VALUE=DATE:20260423
DTSTAMP:20260425T081240
CREATED:20260420T013800Z
LAST-MODIFIED:20260420T013800Z
UID:10000408-1776816000-1776902399@www.mia-aa.org
SUMMARY:Grade 3 Project Red Field Trip
DESCRIPTION:
URL:https://www.mia-aa.org/event/grade-3-project-red-field-trip
END:VEVENT
BEGIN:VEVENT
DTSTART;VALUE=DATE:20260422
DTEND;VALUE=DATE:20260423
DTSTAMP:20260425T081240
CREATED:20260331T151831Z
LAST-MODIFIED:20260420T012405Z
UID:10000402-1776816000-1776902399@www.mia-aa.org
SUMMARY:WIN Readiness Grade 11
DESCRIPTION:
URL:https://www.mia-aa.org/event/win-readiness
END:VEVENT
BEGIN:VEVENT
DTSTART;VALUE=DATE:20260421
DTEND;VALUE=DATE:20260422
DTSTAMP:20260425T081240
CREATED:20260331T151222Z
LAST-MODIFIED:20260331T151222Z
UID:10000401-1776729600-1776815999@www.mia-aa.org
SUMMARY:DNR Field Trip Grades 3-5
DESCRIPTION:
URL:https://www.mia-aa.org/event/dnr-field-trip-grades-3-5
END:VEVENT
BEGIN:VEVENT
DTSTART;VALUE=DATE:20260420
DTEND;VALUE=DATE:20260421
DTSTAMP:20260425T081240
CREATED:20260420T132650Z
LAST-MODIFIED:20260420T132650Z
UID:10000410-1776643200-1776729599@www.mia-aa.org
SUMMARY:Sr. Sara Partridge and Plymouth/Ann Arbor Fencing
DESCRIPTION:
URL:https://www.mia-aa.org/event/sr-sara-partridge-and-plymouth-ann-arbor-fencing
END:VEVENT
BEGIN:VEVENT
DTSTART;VALUE=DATE:20260420
DTEND;VALUE=DATE:20260421
DTSTAMP:20260425T081240
CREATED:20260420T132604Z
LAST-MODIFIED:20260420T132604Z
UID:10000409-1776643200-1776729599@www.mia-aa.org
SUMMARY:MS/HS Assembly Presentation
DESCRIPTION:
URL:https://www.mia-aa.org/event/ms-hs-assembly-presentation
END:VEVENT
BEGIN:VEVENT
DTSTART;TZID=America/New_York:20260417T190000
DTEND;TZID=America/New_York:20260417T203000
DTSTAMP:20260425T081240
CREATED:20260408T171005Z
LAST-MODIFIED:20260408T171005Z
UID:10000404-1776452400-1776457800@www.mia-aa.org
SUMMARY:Community Workshop with Sr. Rana Khalaf
DESCRIPTION:
URL:https://www.mia-aa.org/event/community-workshop-with-sr-rana-khalaf
END:VEVENT
BEGIN:VEVENT
DTSTART;VALUE=DATE:20260416
DTEND;VALUE=DATE:20260417
DTSTAMP:20260425T081240
CREATED:20260331T151037Z
LAST-MODIFIED:20260331T151037Z
UID:10000399-1776297600-1776383999@www.mia-aa.org
SUMMARY:PSAT 10
DESCRIPTION:
URL:https://www.mia-aa.org/event/psat-10
END:VEVENT
BEGIN:VEVENT
DTSTART;VALUE=DATE:20260415
DTEND;VALUE=DATE:20260416
DTSTAMP:20260425T081240
CREATED:20260331T151129Z
LAST-MODIFIED:20260331T151129Z
UID:10000400-1776211200-1776297599@www.mia-aa.org
SUMMARY:SAT 11 with Essay
DESCRIPTION:
URL:https://www.mia-aa.org/event/sat-11-with-essay
END:VEVENT
BEGIN:VEVENT
DTSTART;VALUE=DATE:20260413
DTEND;VALUE=DATE:20260414
DTSTAMP:20260425T081240
CREATED:20250429T211034Z
LAST-MODIFIED:20260413T160432Z
UID:10000290-1776038400-1776124799@www.mia-aa.org
SUMMARY:ASL Day (Morning Assembly)
DESCRIPTION:
URL:https://www.mia-aa.org/event/asl-day-2
END:VEVENT
BEGIN:VEVENT
DTSTART;TZID=America/New_York:20260412T093000
DTEND;TZID=America/New_York:20260412T113000
DTSTAMP:20260425T081240
CREATED:20251006T131244Z
LAST-MODIFIED:20251006T131244Z
UID:10000359-1775986200-1775993400@www.mia-aa.org
SUMMARY:Board Meeting
DESCRIPTION:
URL:https://www.mia-aa.org/event/board-meeting-7
END:VEVENT
BEGIN:VEVENT
DTSTART;VALUE=DATE:20260409
DTEND;VALUE=DATE:20260410
DTSTAMP:20260425T081240
CREATED:20260331T150939Z
LAST-MODIFIED:20260331T150939Z
UID:10000398-1775692800-1775779199@www.mia-aa.org
SUMMARY:PSAT 8
DESCRIPTION:
URL:https://www.mia-aa.org/event/psat-8
END:VEVENT
BEGIN:VEVENT
DTSTART;VALUE=DATE:20260408
DTEND;VALUE=DATE:20260409
DTSTAMP:20260425T081240
CREATED:20260331T150824Z
LAST-MODIFIED:20260331T150824Z
UID:10000397-1775606400-1775692799@www.mia-aa.org
SUMMARY:PSAT 9
DESCRIPTION:
URL:https://www.mia-aa.org/event/psat-9
END:VEVENT
BEGIN:VEVENT
DTSTART;TZID=America/New_York:20260407T113000
DTEND;TZID=America/New_York:20260407T123000
DTSTAMP:20260425T081240
CREATED:20250902T134922Z
LAST-MODIFIED:20250902T134922Z
UID:10000337-1775561400-1775565000@www.mia-aa.org
SUMMARY:Food Pantry
DESCRIPTION:
URL:https://www.mia-aa.org/event/food-pantry-9
END:VEVENT
BEGIN:VEVENT
DTSTART;VALUE=DATE:20260402
DTEND;VALUE=DATE:20260403
DTSTAMP:20260425T081240
CREATED:20260331T150025Z
LAST-MODIFIED:20260331T150025Z
UID:10000396-1775088000-1775174399@www.mia-aa.org
SUMMARY:Grade 7 Entrepreneurship Fair
DESCRIPTION:
URL:https://www.mia-aa.org/event/grade-7-entrepreneurship-fair
END:VEVENT
BEGIN:VEVENT
DTSTART;VALUE=DATE:20260401
DTEND;VALUE=DATE:20260402
DTSTAMP:20260425T081240
CREATED:20260331T152900Z
LAST-MODIFIED:20260331T152900Z
UID:10000403-1775001600-1775087999@www.mia-aa.org
SUMMARY:Palestine Dollar Dress Day
DESCRIPTION:
URL:https://www.mia-aa.org/event/palestine-dollar-dress-day
END:VEVENT
BEGIN:VEVENT
DTSTART;VALUE=DATE:20260330
DTEND;VALUE=DATE:20260331
DTSTAMP:20260425T081240
CREATED:20250429T210908Z
LAST-MODIFIED:20250429T210908Z
UID:10000288-1774828800-1774915199@www.mia-aa.org
SUMMARY:School Resumes - Normal School Schedule Reinstated
DESCRIPTION:
URL:https://www.mia-aa.org/event/school-resumes-normal-school-schedule-reinstated
END:VEVENT
BEGIN:VEVENT
DTSTART;VALUE=DATE:20260316
DTEND;VALUE=DATE:20260330
DTSTAMP:20260425T081240
CREATED:20250429T210826Z
LAST-MODIFIED:20250429T210826Z
UID:10000287-1773619200-1774828799@www.mia-aa.org
SUMMARY:Eid-ul Fitr/Spring Break - No School
DESCRIPTION:
URL:https://www.mia-aa.org/event/eid-ul-fitr-spring-break-no-school-2
END:VEVENT
BEGIN:VEVENT
DTSTART;VALUE=DATE:20260312
DTEND;VALUE=DATE:20260313
DTSTAMP:20260425T081240
CREATED:20260309T132523Z
LAST-MODIFIED:20260309T132523Z
UID:10000394-1773273600-1773359999@www.mia-aa.org
SUMMARY:Public Safety Presentation for Elementary Students
DESCRIPTION:
URL:https://www.mia-aa.org/event/public-safety-presentation-for-elementary-students
END:VEVENT
BEGIN:VEVENT
DTSTART;VALUE=DATE:20260311
DTEND;VALUE=DATE:20260312
DTSTAMP:20260425T081240
CREATED:20260309T132635Z
LAST-MODIFIED:20260309T132635Z
UID:10000395-1773187200-1773273599@www.mia-aa.org
SUMMARY:Report Cards (Emailed)
DESCRIPTION:
URL:https://www.mia-aa.org/event/report-cards-emailed-2
END:VEVENT
BEGIN:VEVENT
DTSTART;VALUE=DATE:20260310
DTEND;VALUE=DATE:20260313
DTSTAMP:20260425T081240
CREATED:20250429T210736Z
LAST-MODIFIED:20250429T210736Z
UID:10000286-1773100800-1773359999@www.mia-aa.org
SUMMARY:Senior Project Presentations
DESCRIPTION:
URL:https://www.mia-aa.org/event/senior-project-presentations-2
END:VEVENT
BEGIN:VEVENT
DTSTART;VALUE=DATE:20260309
DTEND;VALUE=DATE:20260310
DTSTAMP:20260425T081240
CREATED:20250805T201523Z
LAST-MODIFIED:20250805T201523Z
UID:10000323-1773014400-1773100799@www.mia-aa.org
SUMMARY:Beginning of Term 4
DESCRIPTION:
URL:https://www.mia-aa.org/event/beginning-of-term-4-3
END:VEVENT
BEGIN:VEVENT
DTSTART;TZID=America/New_York:20260308T093000
DTEND;TZID=America/New_York:20260308T113000
DTSTAMP:20260425T081240
CREATED:20251006T131219Z
LAST-MODIFIED:20251006T131219Z
UID:10000358-1772962200-1772969400@www.mia-aa.org
SUMMARY:Board Meeting
DESCRIPTION:
URL:https://www.mia-aa.org/event/board-meeting-6
LOCATION:Virtual
END:VEVENT
BEGIN:VEVENT
DTSTART;VALUE=DATE:20260306
DTEND;VALUE=DATE:20260307
DTSTAMP:20260425T081240
CREATED:20250429T210618Z
LAST-MODIFIED:20250805T201153Z
UID:10000284-1772755200-1772841599@www.mia-aa.org
SUMMARY:End of Term 3
DESCRIPTION:
URL:https://www.mia-aa.org/event/end-of-term-3-2
END:VEVENT
BEGIN:VEVENT
DTSTART;TZID=America/New_York:20260303T113000
DTEND;TZID=America/New_York:20260303T123000
DTSTAMP:20260425T081240
CREATED:20250902T134854Z
LAST-MODIFIED:20250902T134854Z
UID:10000336-1772537400-1772541000@www.mia-aa.org
SUMMARY:Food Pantry
DESCRIPTION:
URL:https://www.mia-aa.org/event/food-pantry-8
END:VEVENT
BEGIN:VEVENT
DTSTART;VALUE=DATE:20260301
DTEND;VALUE=DATE:20260302
DTSTAMP:20260425T081240
CREATED:20260112T093615Z
LAST-MODIFIED:20260112T093615Z
UID:10000381-1772323200-1772409599@www.mia-aa.org
SUMMARY:MIA Ramadan Iftar 2026
DESCRIPTION:
URL:https://www.mia-aa.org/event/mia-ramadan-iftar-2026
END:VEVENT
END:VCALENDAR