BEGIN:VCALENDAR
VERSION:2.0
PRODID:-//Michigan Islamic Academy - ECPv6.15.17.1//NONSGML v1.0//EN
CALSCALE:GREGORIAN
METHOD:PUBLISH
X-WR-CALNAME:Michigan Islamic Academy
X-ORIGINAL-URL:https://www.mia-aa.org
X-WR-CALDESC:Events for Michigan Islamic Academy
REFRESH-INTERVAL;VALUE=DURATION:PT1H
X-Robots-Tag:noindex
X-PUBLISHED-TTL:PT1H
BEGIN:VTIMEZONE
TZID:America/New_York
BEGIN:DAYLIGHT
TZOFFSETFROM:-0500
TZOFFSETTO:-0400
TZNAME:EDT
DTSTART:20250309T070000
END:DAYLIGHT
BEGIN:STANDARD
TZOFFSETFROM:-0400
TZOFFSETTO:-0500
TZNAME:EST
DTSTART:20251102T060000
END:STANDARD
BEGIN:DAYLIGHT
TZOFFSETFROM:-0500
TZOFFSETTO:-0400
TZNAME:EDT
DTSTART:20260308T070000
END:DAYLIGHT
BEGIN:STANDARD
TZOFFSETFROM:-0400
TZOFFSETTO:-0500
TZNAME:EST
DTSTART:20261101T060000
END:STANDARD
BEGIN:DAYLIGHT
TZOFFSETFROM:-0500
TZOFFSETTO:-0400
TZNAME:EDT
DTSTART:20270314T070000
END:DAYLIGHT
BEGIN:STANDARD
TZOFFSETFROM:-0400
TZOFFSETTO:-0500
TZNAME:EST
DTSTART:20271107T060000
END:STANDARD
END:VTIMEZONE
BEGIN:VEVENT
DTSTART;VALUE=DATE:20260605
DTEND;VALUE=DATE:20260606
DTSTAMP:20260425T114332
CREATED:20250429T212506Z
LAST-MODIFIED:20260413T160700Z
UID:10000310-1780617600-1780703999@www.mia-aa.org
SUMMARY:End of the Year Field Trip: Heritage Park
DESCRIPTION:
URL:https://www.mia-aa.org/event/end-of-the-year-field-trip-2
END:VEVENT
BEGIN:VEVENT
DTSTART;TZID=America/New_York:20260604T123000
DTEND;TZID=America/New_York:20260604T123000
DTSTAMP:20260425T114332
CREATED:20250429T212427Z
LAST-MODIFIED:20250429T212427Z
UID:10000309-1780576200-1780576200@www.mia-aa.org
SUMMARY:Early Dismissal for All Students
DESCRIPTION:
URL:https://www.mia-aa.org/event/early-dismissal-for-all-students-4
END:VEVENT
BEGIN:VEVENT
DTSTART;VALUE=DATE:20260604
DTEND;VALUE=DATE:20260605
DTSTAMP:20260425T114332
CREATED:20250805T201731Z
LAST-MODIFIED:20250805T201731Z
UID:10000324-1780531200-1780617599@www.mia-aa.org
SUMMARY:Grade 8 Graduation
DESCRIPTION:
URL:https://www.mia-aa.org/event/grade-8-graduation
END:VEVENT
BEGIN:VEVENT
DTSTART;VALUE=DATE:20260604
DTEND;VALUE=DATE:20260605
DTSTAMP:20260425T114332
CREATED:20250429T212342Z
LAST-MODIFIED:20250429T212342Z
UID:10000308-1780531200-1780617599@www.mia-aa.org
SUMMARY:Grade 5 Graduation and Elementary Celebration
DESCRIPTION:
URL:https://www.mia-aa.org/event/grade-5-graduation-and-elementary-celebration
END:VEVENT
BEGIN:VEVENT
DTSTART;VALUE=DATE:20260602
DTEND;VALUE=DATE:20260605
DTSTAMP:20260425T114332
CREATED:20250429T212305Z
LAST-MODIFIED:20250429T212305Z
UID:10000307-1780358400-1780617599@www.mia-aa.org
SUMMARY:Second Semester Exams - Middle and High School
DESCRIPTION:
URL:https://www.mia-aa.org/event/second-semester-exams-middle-and-high-school-2
END:VEVENT
BEGIN:VEVENT
DTSTART;VALUE=DATE:20260601
DTEND;VALUE=DATE:20260602
DTSTAMP:20260425T114332
CREATED:20250429T212219Z
LAST-MODIFIED:20250429T212219Z
UID:10000306-1780272000-1780358399@www.mia-aa.org
SUMMARY:Offsite Study Day - MS/HS
DESCRIPTION:
URL:https://www.mia-aa.org/event/offsite-study-day-ms-hs-2
END:VEVENT
BEGIN:VEVENT
DTSTART;VALUE=DATE:20260526
DTEND;VALUE=DATE:20260530
DTSTAMP:20260425T114332
CREATED:20250429T212139Z
LAST-MODIFIED:20250429T212139Z
UID:10000305-1779753600-1780099199@www.mia-aa.org
SUMMARY:Eid al Adha Break - No School
DESCRIPTION:
URL:https://www.mia-aa.org/event/eid-al-adha-break-no-school
END:VEVENT
BEGIN:VEVENT
DTSTART;VALUE=DATE:20260525
DTEND;VALUE=DATE:20260526
DTSTAMP:20260425T114332
CREATED:20250429T212055Z
LAST-MODIFIED:20250429T212055Z
UID:10000304-1779667200-1779753599@www.mia-aa.org
SUMMARY:Memorial Day - No School
DESCRIPTION:
URL:https://www.mia-aa.org/event/memorial-day-no-school-2
END:VEVENT
BEGIN:VEVENT
DTSTART;VALUE=DATE:20260523
DTEND;VALUE=DATE:20260524
DTSTAMP:20260425T114332
CREATED:20250429T212014Z
LAST-MODIFIED:20260129T180537Z
UID:10000303-1779494400-1779580799@www.mia-aa.org
SUMMARY:High School Graduation
DESCRIPTION:
URL:https://www.mia-aa.org/event/high-school-graduation-2
END:VEVENT
BEGIN:VEVENT
DTSTART;VALUE=DATE:20260520
DTEND;VALUE=DATE:20260521
DTSTAMP:20260425T114332
CREATED:20250429T211934Z
LAST-MODIFIED:20250429T211934Z
UID:10000302-1779235200-1779321599@www.mia-aa.org
SUMMARY:Hajj Spirit Day
DESCRIPTION:
URL:https://www.mia-aa.org/event/hajj-spirit-day
END:VEVENT
BEGIN:VEVENT
DTSTART;VALUE=DATE:20260518
DTEND;VALUE=DATE:20260523
DTSTAMP:20260425T114332
CREATED:20250429T211739Z
LAST-MODIFIED:20250429T211739Z
UID:10000299-1779062400-1779494399@www.mia-aa.org
SUMMARY:NWEA Testing (Elementary Grade 2–5 Only)
DESCRIPTION:
URL:https://www.mia-aa.org/event/nwea-testing-elementary-grade-2-5-only-4
END:VEVENT
BEGIN:VEVENT
DTSTART;TZID=America/New_York:20260517T093000
DTEND;TZID=America/New_York:20260517T113000
DTSTAMP:20260425T114332
CREATED:20251006T131318Z
LAST-MODIFIED:20251006T131318Z
UID:10000360-1779010200-1779017400@www.mia-aa.org
SUMMARY:Board Meeting
DESCRIPTION:
URL:https://www.mia-aa.org/event/board-meeting-8
END:VEVENT
BEGIN:VEVENT
DTSTART;VALUE=DATE:20260515
DTEND;VALUE=DATE:20260516
DTSTAMP:20260425T114332
CREATED:20250429T211856Z
LAST-MODIFIED:20250429T211856Z
UID:10000301-1778803200-1778889599@www.mia-aa.org
SUMMARY:Girls Formal
DESCRIPTION:
URL:https://www.mia-aa.org/event/girls-formal-2
END:VEVENT
BEGIN:VEVENT
DTSTART;VALUE=DATE:20260515
DTEND;VALUE=DATE:20260516
DTSTAMP:20260425T114332
CREATED:20250429T211818Z
LAST-MODIFIED:20250429T211818Z
UID:10000300-1778803200-1778889599@www.mia-aa.org
SUMMARY:MSTEP Testing Window Ends
DESCRIPTION:
URL:https://www.mia-aa.org/event/mstep-testing-window-ends-2
END:VEVENT
BEGIN:VEVENT
DTSTART;VALUE=DATE:20260512
DTEND;VALUE=DATE:20260516
DTSTAMP:20260425T114332
CREATED:20250429T211647Z
LAST-MODIFIED:20250429T211647Z
UID:10000298-1778544000-1778889599@www.mia-aa.org
SUMMARY:NWEA Testing (Elementary Grade 2–5 Only)
DESCRIPTION:
URL:https://www.mia-aa.org/event/nwea-testing-elementary-grade-2-5-only-3
END:VEVENT
BEGIN:VEVENT
DTSTART;TZID=America/New_York:20260505T113000
DTEND;TZID=America/New_York:20260505T123000
DTSTAMP:20260425T114332
CREATED:20250902T134949Z
LAST-MODIFIED:20250902T134949Z
UID:10000338-1777980600-1777984200@www.mia-aa.org
SUMMARY:Food Pantry
DESCRIPTION:
URL:https://www.mia-aa.org/event/food-pantry-10
END:VEVENT
BEGIN:VEVENT
DTSTART;TZID=America/New_York:20260428T084500
DTEND;TZID=America/New_York:20260428T100000
DTSTAMP:20260425T114332
CREATED:20260421T140333Z
LAST-MODIFIED:20260421T140333Z
UID:10000415-1777365900-1777370400@www.mia-aa.org
SUMMARY:Coffee with the Principal
DESCRIPTION:
URL:https://www.mia-aa.org/event/coffee-with-the-principal
LOCATION:Multi-Purpose Room
END:VEVENT
BEGIN:VEVENT
DTSTART;VALUE=DATE:20260428
DTEND;VALUE=DATE:20260429
DTSTAMP:20260425T114332
CREATED:20250429T211422Z
LAST-MODIFIED:20250429T211422Z
UID:10000295-1777334400-1777420799@www.mia-aa.org
SUMMARY:E-Progress Reports
DESCRIPTION:
URL:https://www.mia-aa.org/event/e-progress-reports-2
END:VEVENT
BEGIN:VEVENT
DTSTART;VALUE=DATE:20260424
DTEND;VALUE=DATE:20260425
DTSTAMP:20260425T114332
CREATED:20260420T133021Z
LAST-MODIFIED:20260420T133021Z
UID:10000412-1776988800-1777075199@www.mia-aa.org
SUMMARY:Seniors and Early Grads Self-Defense Workshop
DESCRIPTION:Sponsored by Sr. Sara Partridge
URL:https://www.mia-aa.org/event/seniors-and-early-grads-self-defense-workshop
END:VEVENT
BEGIN:VEVENT
DTSTART;VALUE=DATE:20260424
DTEND;VALUE=DATE:20260425
DTSTAMP:20260425T114332
CREATED:20260420T132814Z
LAST-MODIFIED:20260420T132814Z
UID:10000411-1776988800-1777075199@www.mia-aa.org
SUMMARY:P2P End of Year Celebration
DESCRIPTION:
URL:https://www.mia-aa.org/event/p2p-end-of-year-celebration
LOCATION:Offsite
END:VEVENT
BEGIN:VEVENT
DTSTART;VALUE=DATE:20260424
DTEND;VALUE=DATE:20260425
DTSTAMP:20260425T114332
CREATED:20250429T210952Z
LAST-MODIFIED:20260408T165348Z
UID:10000289-1776988800-1777075199@www.mia-aa.org
SUMMARY:Boys Gaming/BB Tournament
DESCRIPTION:
URL:https://www.mia-aa.org/event/boys-gaming-bb-tournament-2
END:VEVENT
BEGIN:VEVENT
DTSTART;VALUE=DATE:20260423
DTEND;VALUE=DATE:20260424
DTSTAMP:20260425T114332
CREATED:20260420T133222Z
LAST-MODIFIED:20260420T133222Z
UID:10000414-1776902400-1776988799@www.mia-aa.org
SUMMARY:PSAT 8\,9\,10 and SAT (w/ Essay) Makeup Testing Window Ends
DESCRIPTION:
URL:https://www.mia-aa.org/event/psat-8910-and-sat-w-essay-makeup-testing-window-ends
END:VEVENT
BEGIN:VEVENT
DTSTART;VALUE=DATE:20260423
DTEND;VALUE=DATE:20260424
DTSTAMP:20260425T114332
CREATED:20250429T211337Z
LAST-MODIFIED:20260331T152308Z
UID:10000294-1776902400-1776988799@www.mia-aa.org
SUMMARY:SAT (with essay) & PSAT (grades 8\, 9\, and 10) Makeup Testing Window Ends
DESCRIPTION:
URL:https://www.mia-aa.org/event/sat-with-essay-psat-grades-8-9-and-10-testing-windows-end
END:VEVENT
BEGIN:VEVENT
DTSTART;VALUE=DATE:20260423
DTEND;VALUE=DATE:20260424
DTSTAMP:20260425T114332
CREATED:20250429T211251Z
LAST-MODIFIED:20250429T211251Z
UID:10000293-1776902400-1776988799@www.mia-aa.org
SUMMARY:ACT WorkKeys
DESCRIPTION:
URL:https://www.mia-aa.org/event/act-workkeys-3
END:VEVENT
BEGIN:VEVENT
DTSTART;VALUE=DATE:20260422
DTEND;VALUE=DATE:20260423
DTSTAMP:20260425T114332
CREATED:20260420T013800Z
LAST-MODIFIED:20260420T013800Z
UID:10000408-1776816000-1776902399@www.mia-aa.org
SUMMARY:Grade 3 Project Red Field Trip
DESCRIPTION:
URL:https://www.mia-aa.org/event/grade-3-project-red-field-trip
END:VEVENT
BEGIN:VEVENT
DTSTART;VALUE=DATE:20260422
DTEND;VALUE=DATE:20260423
DTSTAMP:20260425T114332
CREATED:20260331T151831Z
LAST-MODIFIED:20260420T012405Z
UID:10000402-1776816000-1776902399@www.mia-aa.org
SUMMARY:WIN Readiness Grade 11
DESCRIPTION:
URL:https://www.mia-aa.org/event/win-readiness
END:VEVENT
BEGIN:VEVENT
DTSTART;VALUE=DATE:20260421
DTEND;VALUE=DATE:20260422
DTSTAMP:20260425T114332
CREATED:20260331T151222Z
LAST-MODIFIED:20260331T151222Z
UID:10000401-1776729600-1776815999@www.mia-aa.org
SUMMARY:DNR Field Trip Grades 3-5
DESCRIPTION:
URL:https://www.mia-aa.org/event/dnr-field-trip-grades-3-5
END:VEVENT
BEGIN:VEVENT
DTSTART;VALUE=DATE:20260420
DTEND;VALUE=DATE:20260421
DTSTAMP:20260425T114332
CREATED:20260420T132650Z
LAST-MODIFIED:20260420T132650Z
UID:10000410-1776643200-1776729599@www.mia-aa.org
SUMMARY:Sr. Sara Partridge and Plymouth/Ann Arbor Fencing
DESCRIPTION:
URL:https://www.mia-aa.org/event/sr-sara-partridge-and-plymouth-ann-arbor-fencing
END:VEVENT
BEGIN:VEVENT
DTSTART;VALUE=DATE:20260420
DTEND;VALUE=DATE:20260421
DTSTAMP:20260425T114332
CREATED:20260420T132604Z
LAST-MODIFIED:20260420T132604Z
UID:10000409-1776643200-1776729599@www.mia-aa.org
SUMMARY:MS/HS Assembly Presentation
DESCRIPTION:
URL:https://www.mia-aa.org/event/ms-hs-assembly-presentation
END:VEVENT
BEGIN:VEVENT
DTSTART;TZID=America/New_York:20260417T190000
DTEND;TZID=America/New_York:20260417T203000
DTSTAMP:20260425T114332
CREATED:20260408T171005Z
LAST-MODIFIED:20260408T171005Z
UID:10000404-1776452400-1776457800@www.mia-aa.org
SUMMARY:Community Workshop with Sr. Rana Khalaf
DESCRIPTION:
URL:https://www.mia-aa.org/event/community-workshop-with-sr-rana-khalaf
END:VEVENT
END:VCALENDAR