BEGIN:VCALENDAR
VERSION:2.0
PRODID:-//Michigan Islamic Academy - ECPv6.15.17.1//NONSGML v1.0//EN
CALSCALE:GREGORIAN
METHOD:PUBLISH
X-WR-CALNAME:Michigan Islamic Academy
X-ORIGINAL-URL:https://www.mia-aa.org
X-WR-CALDESC:Events for Michigan Islamic Academy
REFRESH-INTERVAL;VALUE=DURATION:PT1H
X-Robots-Tag:noindex
X-PUBLISHED-TTL:PT1H
BEGIN:VTIMEZONE
TZID:America/New_York
BEGIN:DAYLIGHT
TZOFFSETFROM:-0500
TZOFFSETTO:-0400
TZNAME:EDT
DTSTART:20240310T070000
END:DAYLIGHT
BEGIN:STANDARD
TZOFFSETFROM:-0400
TZOFFSETTO:-0500
TZNAME:EST
DTSTART:20241103T060000
END:STANDARD
BEGIN:DAYLIGHT
TZOFFSETFROM:-0500
TZOFFSETTO:-0400
TZNAME:EDT
DTSTART:20250309T070000
END:DAYLIGHT
BEGIN:STANDARD
TZOFFSETFROM:-0400
TZOFFSETTO:-0500
TZNAME:EST
DTSTART:20251102T060000
END:STANDARD
BEGIN:DAYLIGHT
TZOFFSETFROM:-0500
TZOFFSETTO:-0400
TZNAME:EDT
DTSTART:20260308T070000
END:DAYLIGHT
BEGIN:STANDARD
TZOFFSETFROM:-0400
TZOFFSETTO:-0500
TZNAME:EST
DTSTART:20261101T060000
END:STANDARD
END:VTIMEZONE
BEGIN:VEVENT
DTSTART;VALUE=DATE:20250922
DTEND;VALUE=DATE:20250923
DTSTAMP:20260425T213643
CREATED:20250429T191337Z
LAST-MODIFIED:20250429T191337Z
UID:10000229-1758499200-1758585599@www.mia-aa.org
SUMMARY:Student Progress E-Reports
DESCRIPTION:
URL:https://www.mia-aa.org/event/student-progress-e-reports-4
END:VEVENT
BEGIN:VEVENT
DTSTART;TZID=America/New_York:20250917T141500
DTEND;TZID=America/New_York:20250917T151500
DTSTAMP:20260425T213643
CREATED:20250902T134519Z
LAST-MODIFIED:20250902T134519Z
UID:10000330-1758118500-1758122100@www.mia-aa.org
SUMMARY:Food Pantry
DESCRIPTION:
URL:https://www.mia-aa.org/event/food-pantry-2
END:VEVENT
BEGIN:VEVENT
DTSTART;VALUE=DATE:20250902
DTEND;VALUE=DATE:20250912
DTSTAMP:20260425T213643
CREATED:20250429T191207Z
LAST-MODIFIED:20250429T191207Z
UID:10000227-1756771200-1757635199@www.mia-aa.org
SUMMARY:NWEA Testing (Elementary Grade 2–5 Only)
DESCRIPTION:
URL:https://www.mia-aa.org/event/nwea-testing-elementary-grade-2-5-only
END:VEVENT
BEGIN:VEVENT
DTSTART;VALUE=DATE:20250901
DTEND;VALUE=DATE:20250902
DTSTAMP:20260425T213643
CREATED:20250429T191118Z
LAST-MODIFIED:20250429T191118Z
UID:10000226-1756684800-1756771199@www.mia-aa.org
SUMMARY:Labor Day - No School
DESCRIPTION:
URL:https://www.mia-aa.org/event/labor-day-no-school-2
END:VEVENT
BEGIN:VEVENT
DTSTART;VALUE=DATE:20250826
DTEND;VALUE=DATE:20250827
DTSTAMP:20260425T213643
CREATED:20240711T190820Z
LAST-MODIFIED:20250408T134049Z
UID:10000092-1756166400-1756252799@www.mia-aa.org
SUMMARY:Picture Day
DESCRIPTION:
URL:https://www.mia-aa.org/event/first-day-of-school-for-students
END:VEVENT
BEGIN:VEVENT
DTSTART;VALUE=DATE:20250820
DTEND;VALUE=DATE:20250821
DTSTAMP:20260425T213643
CREATED:20240829T041119Z
LAST-MODIFIED:20240829T041119Z
UID:10000132-1755648000-1755734399@www.mia-aa.org
SUMMARY:First Day of School for Students
DESCRIPTION:
URL:https://www.mia-aa.org/event/first-day-of-school-for-students-2
END:VEVENT
BEGIN:VEVENT
DTSTART;TZID=America/New_York:20250818T180000
DTEND;TZID=America/New_York:20250818T190000
DTSTAMP:20260425T213643
CREATED:20250408T133937Z
LAST-MODIFIED:20250408T133937Z
UID:10000221-1755540000-1755543600@www.mia-aa.org
SUMMARY:High School Orientation
DESCRIPTION:
URL:https://www.mia-aa.org/event/high-school-orientation-2
END:VEVENT
BEGIN:VEVENT
DTSTART;TZID=America/New_York:20250818T160000
DTEND;TZID=America/New_York:20250818T190000
DTSTAMP:20260425T213643
CREATED:20250805T193448Z
LAST-MODIFIED:20250805T193448Z
UID:10000319-1755532800-1755543600@www.mia-aa.org
SUMMARY:Parent Curriculum Night
DESCRIPTION:
URL:https://www.mia-aa.org/event/parent-curriculum-night-2
END:VEVENT
BEGIN:VEVENT
DTSTART;TZID=America/New_York:20250818T160000
DTEND;TZID=America/New_York:20250818T170000
DTSTAMP:20260425T213643
CREATED:20250408T133853Z
LAST-MODIFIED:20250408T133853Z
UID:10000220-1755532800-1755536400@www.mia-aa.org
SUMMARY:Middle School Orientation
DESCRIPTION:
URL:https://www.mia-aa.org/event/middle-school-orientation-2
END:VEVENT
BEGIN:VEVENT
DTSTART;TZID=America/New_York:20250818T110000
DTEND;TZID=America/New_York:20250818T130000
DTSTAMP:20260425T213643
CREATED:20250805T193324Z
LAST-MODIFIED:20250805T193324Z
UID:10000318-1755514800-1755522000@www.mia-aa.org
SUMMARY:Grades 1–5 Meet and Greet
DESCRIPTION:
URL:https://www.mia-aa.org/event/grades-1-5-meet-and-greet-2
END:VEVENT
BEGIN:VEVENT
DTSTART;TZID=America/New_York:20250818T110000
DTEND;TZID=America/New_York:20250818T110000
DTSTAMP:20260425T213643
CREATED:20240711T190800Z
LAST-MODIFIED:20250408T133706Z
UID:10000091-1755514800-1755514800@www.mia-aa.org
SUMMARY:Pre-K & Kindergarten Mandatory Orientation
DESCRIPTION:
URL:https://www.mia-aa.org/event/first-day-of-school-for-staff
END:VEVENT
BEGIN:VEVENT
DTSTART;VALUE=DATE:20250813
DTEND;VALUE=DATE:20250814
DTSTAMP:20260425T213643
CREATED:20240829T041102Z
LAST-MODIFIED:20250408T133529Z
UID:10000131-1755043200-1755129599@www.mia-aa.org
SUMMARY:First Day for New and Returning Teachers
DESCRIPTION:
URL:https://www.mia-aa.org/event/first-day-of-school-for-staff-2
END:VEVENT
BEGIN:VEVENT
DTSTART;VALUE=DATE:20250804
DTEND;VALUE=DATE:20250805
DTSTAMP:20260425T213643
CREATED:20240829T041044Z
LAST-MODIFIED:20240829T041044Z
UID:10000130-1754265600-1754351999@www.mia-aa.org
SUMMARY:First Day Admin./Office/Build. Staff
DESCRIPTION:
URL:https://www.mia-aa.org/event/first-day-admin-office-build-staff
END:VEVENT
BEGIN:VEVENT
DTSTART;VALUE=DATE:20250804
DTEND;VALUE=DATE:20250805
DTSTAMP:20260425T213643
CREATED:20240711T190742Z
LAST-MODIFIED:20240711T190742Z
UID:10000090-1754265600-1754351999@www.mia-aa.org
SUMMARY:First Day Administration/Office/Building Staff
DESCRIPTION:
URL:https://www.mia-aa.org/event/first-day-administration-office-building-staff
END:VEVENT
BEGIN:VEVENT
DTSTART;VALUE=DATE:20250707
DTEND;VALUE=DATE:20250809
DTSTAMP:20260425T213643
CREATED:20240829T041021Z
LAST-MODIFIED:20240829T041021Z
UID:10000129-1751846400-1754697599@www.mia-aa.org
SUMMARY:Summer Camp
DESCRIPTION:
URL:https://www.mia-aa.org/event/summer-camp
END:VEVENT
BEGIN:VEVENT
DTSTART;VALUE=DATE:20250616
DTEND;VALUE=DATE:20250818
DTSTAMP:20260425T213643
CREATED:20240711T190712Z
LAST-MODIFIED:20240711T190712Z
UID:10000089-1750032000-1755475199@www.mia-aa.org
SUMMARY:Summer Recess
DESCRIPTION:
URL:https://www.mia-aa.org/event/summer-recess
END:VEVENT
BEGIN:VEVENT
DTSTART;VALUE=DATE:20250613
DTEND;VALUE=DATE:20250614
DTSTAMP:20260425T213643
CREATED:20240711T190646Z
LAST-MODIFIED:20250408T133209Z
UID:10000088-1749772800-1749859199@www.mia-aa.org
SUMMARY:Last Day for Teachers
DESCRIPTION:
URL:https://www.mia-aa.org/event/last-day-for-teachers
END:VEVENT
BEGIN:VEVENT
DTSTART;VALUE=DATE:20250605
DTEND;VALUE=DATE:20250610
DTSTAMP:20260425T213643
CREATED:20240711T190601Z
LAST-MODIFIED:20240711T190601Z
UID:10000086-1749081600-1749513599@www.mia-aa.org
SUMMARY:Eid-Ul Adha Break Staff
DESCRIPTION:
URL:https://www.mia-aa.org/event/eid-ul-adha-break-staff
END:VEVENT
BEGIN:VEVENT
DTSTART;TZID=America/New_York:20250604T123000
DTEND;TZID=America/New_York:20250604T123000
DTSTAMP:20260425T213643
CREATED:20240711T190451Z
LAST-MODIFIED:20240711T190539Z
UID:10000084-1749040200-1749040200@www.mia-aa.org
SUMMARY:Early Dismissal
DESCRIPTION:
URL:https://www.mia-aa.org/event/early-dismissal-9
END:VEVENT
BEGIN:VEVENT
DTSTART;VALUE=DATE:20250604
DTEND;VALUE=DATE:20250605
DTSTAMP:20260425T213643
CREATED:20240711T190509Z
LAST-MODIFIED:20240711T190509Z
UID:10000085-1748995200-1749081599@www.mia-aa.org
SUMMARY:Last Day of School
DESCRIPTION:
URL:https://www.mia-aa.org/event/last-day-of-school
END:VEVENT
BEGIN:VEVENT
DTSTART;VALUE=DATE:20250603
DTEND;VALUE=DATE:20250604
DTSTAMP:20260425T213643
CREATED:20240711T190434Z
LAST-MODIFIED:20240711T190434Z
UID:10000083-1748908800-1748995199@www.mia-aa.org
SUMMARY:Early Dismissal
DESCRIPTION:
URL:https://www.mia-aa.org/event/early-dismissal-8
END:VEVENT
BEGIN:VEVENT
DTSTART;VALUE=DATE:20250602
DTEND;VALUE=DATE:20250605
DTSTAMP:20260425T213643
CREATED:20240711T190358Z
LAST-MODIFIED:20240711T190358Z
UID:10000081-1748822400-1749081599@www.mia-aa.org
SUMMARY:Second Semester Exams - Middle and High School
DESCRIPTION:
URL:https://www.mia-aa.org/event/second-semester-exams-middle-and-high-school
END:VEVENT
BEGIN:VEVENT
DTSTART;VALUE=DATE:20250602
DTEND;VALUE=DATE:20250603
DTSTAMP:20260425T213643
CREATED:20240711T190418Z
LAST-MODIFIED:20240711T190418Z
UID:10000082-1748822400-1748908799@www.mia-aa.org
SUMMARY:Early Dismissal
DESCRIPTION:
URL:https://www.mia-aa.org/event/early-dismissal-7
END:VEVENT
BEGIN:VEVENT
DTSTART;VALUE=DATE:20250530
DTEND;VALUE=DATE:20250531
DTSTAMP:20260425T213643
CREATED:20240711T190332Z
LAST-MODIFIED:20240711T190332Z
UID:10000080-1748563200-1748649599@www.mia-aa.org
SUMMARY:End of the Year Field Trip
DESCRIPTION:
URL:https://www.mia-aa.org/event/end-of-the-year-field-trip
END:VEVENT
BEGIN:VEVENT
DTSTART;TZID=America/New_York:20250529T180000
DTEND;TZID=America/New_York:20250529T190000
DTSTAMP:20260425T213643
CREATED:20240711T190317Z
LAST-MODIFIED:20250506T142258Z
UID:10000079-1748541600-1748545200@www.mia-aa.org
SUMMARY:Grade 8 Graduation
DESCRIPTION:
URL:https://www.mia-aa.org/event/grade-8-graduation-evening
LOCATION:Gym
END:VEVENT
BEGIN:VEVENT
DTSTART;TZID=America/New_York:20250529T090000
DTEND;TZID=America/New_York:20250529T094500
DTSTAMP:20260425T213643
CREATED:20240711T190238Z
LAST-MODIFIED:20250506T142124Z
UID:10000077-1748509200-1748511900@www.mia-aa.org
SUMMARY:Grade 5 Graduation and Elementary Celebration
DESCRIPTION:
URL:https://www.mia-aa.org/event/grade-5-graduation
LOCATION:Gym
END:VEVENT
BEGIN:VEVENT
DTSTART;TZID=America/New_York:20250527T084500
DTEND;TZID=America/New_York:20250527T094500
DTSTAMP:20260425T213643
CREATED:20240910T033130Z
LAST-MODIFIED:20240910T033825Z
UID:10000149-1748335500-1748339100@www.mia-aa.org
SUMMARY:PTO Meeting/Coffee with the Principal
DESCRIPTION:
URL:https://www.mia-aa.org/event/pto-meeting-coffee-with-the-principal/2025-05-27
LOCATION:Multi-Purpose Room
END:VEVENT
BEGIN:VEVENT
DTSTART;VALUE=DATE:20250526
DTEND;VALUE=DATE:20250527
DTSTAMP:20260425T213643
CREATED:20240711T190218Z
LAST-MODIFIED:20240711T190218Z
UID:10000076-1748217600-1748303999@www.mia-aa.org
SUMMARY:Memorial Day - No School
DESCRIPTION:
URL:https://www.mia-aa.org/event/memorial-day-no-school
END:VEVENT
BEGIN:VEVENT
DTSTART;TZID=America/New_York:20250524T120000
DTEND;TZID=America/New_York:20250524T140000
DTSTAMP:20260425T213643
CREATED:20240829T040717Z
LAST-MODIFIED:20250506T142005Z
UID:10000128-1748088000-1748095200@www.mia-aa.org
SUMMARY:HS Graduation
DESCRIPTION:
URL:https://www.mia-aa.org/event/hs-graduation
END:VEVENT
BEGIN:VEVENT
DTSTART;VALUE=DATE:20250519
DTEND;VALUE=DATE:20250524
DTSTAMP:20260425T213643
CREATED:20240711T190118Z
LAST-MODIFIED:20250506T141859Z
UID:10000073-1747612800-1748044799@www.mia-aa.org
SUMMARY:NWEA Testing (Elementary Grades 2–5 Only)
DESCRIPTION:
URL:https://www.mia-aa.org/event/nwea-testing-elementary-grades-2-5-only-3
END:VEVENT
END:VCALENDAR