BEGIN:VCALENDAR
VERSION:2.0
PRODID:-//Michigan Islamic Academy - ECPv6.15.17.1//NONSGML v1.0//EN
CALSCALE:GREGORIAN
METHOD:PUBLISH
X-WR-CALNAME:Michigan Islamic Academy
X-ORIGINAL-URL:https://www.mia-aa.org
X-WR-CALDESC:Events for Michigan Islamic Academy
REFRESH-INTERVAL;VALUE=DURATION:PT1H
X-Robots-Tag:noindex
X-PUBLISHED-TTL:PT1H
BEGIN:VTIMEZONE
TZID:America/New_York
BEGIN:DAYLIGHT
TZOFFSETFROM:-0500
TZOFFSETTO:-0400
TZNAME:EDT
DTSTART:20240310T070000
END:DAYLIGHT
BEGIN:STANDARD
TZOFFSETFROM:-0400
TZOFFSETTO:-0500
TZNAME:EST
DTSTART:20241103T060000
END:STANDARD
BEGIN:DAYLIGHT
TZOFFSETFROM:-0500
TZOFFSETTO:-0400
TZNAME:EDT
DTSTART:20250309T070000
END:DAYLIGHT
BEGIN:STANDARD
TZOFFSETFROM:-0400
TZOFFSETTO:-0500
TZNAME:EST
DTSTART:20251102T060000
END:STANDARD
BEGIN:DAYLIGHT
TZOFFSETFROM:-0500
TZOFFSETTO:-0400
TZNAME:EDT
DTSTART:20260308T070000
END:DAYLIGHT
BEGIN:STANDARD
TZOFFSETFROM:-0400
TZOFFSETTO:-0500
TZNAME:EST
DTSTART:20261101T060000
END:STANDARD
END:VTIMEZONE
BEGIN:VEVENT
DTSTART;TZID=America/New_York:20251111T090000
DTEND;TZID=America/New_York:20251111T140000
DTSTAMP:20260425T093417
CREATED:20251103T204149Z
LAST-MODIFIED:20251103T204149Z
UID:10000374-1762851600-1762869600@www.mia-aa.org
SUMMARY:Grade 9 - Digital Design Workshop UM
DESCRIPTION:
URL:https://www.mia-aa.org/event/grade-9-digital-design-workshop-um
END:VEVENT
BEGIN:VEVENT
DTSTART;TZID=America/New_York:20251109T093000
DTEND;TZID=America/New_York:20251109T113000
DTSTAMP:20260425T093417
CREATED:20251006T131032Z
LAST-MODIFIED:20251006T131032Z
UID:10000354-1762680600-1762687800@www.mia-aa.org
SUMMARY:Board Meeting
DESCRIPTION:
URL:https://www.mia-aa.org/event/board-meeting-2
END:VEVENT
BEGIN:VEVENT
DTSTART;TZID=America/New_York:20251108T090000
DTEND;TZID=America/New_York:20251108T120000
DTSTAMP:20260425T093417
CREATED:20251028T013327Z
LAST-MODIFIED:20251028T013327Z
UID:10000367-1762592400-1762603200@www.mia-aa.org
SUMMARY:Henry Ford College Middle School Family Fun Day
DESCRIPTION:Building L – Forfa Auditorium
URL:https://www.mia-aa.org/event/henry-ford-college-middle-school-family-fun-day
END:VEVENT
BEGIN:VEVENT
DTSTART;VALUE=DATE:20251107
DTEND;VALUE=DATE:20251108
DTSTAMP:20260425T093417
CREATED:20251028T005634Z
LAST-MODIFIED:20251028T005634Z
UID:10000365-1762473600-1762559999@www.mia-aa.org
SUMMARY:MS Girls Lock-In
DESCRIPTION:
URL:https://www.mia-aa.org/event/ms-girls-lock-in-3
END:VEVENT
BEGIN:VEVENT
DTSTART;TZID=America/New_York:20251105T180000
DTEND;TZID=America/New_York:20251105T190000
DTSTAMP:20260425T093417
CREATED:20251103T203655Z
LAST-MODIFIED:20251103T203655Z
UID:10000371-1762365600-1762369200@www.mia-aa.org
SUMMARY:PTO/CWTP
DESCRIPTION:
URL:https://www.mia-aa.org/event/pto-cwtp-3
LOCATION:Virtual
END:VEVENT
BEGIN:VEVENT
DTSTART;TZID=America/New_York:20251104T155000
DTEND;TZID=America/New_York:20251104T164500
DTSTAMP:20260425T093417
CREATED:20251103T204040Z
LAST-MODIFIED:20251103T204040Z
UID:10000373-1762271400-1762274700@www.mia-aa.org
SUMMARY:MS/HS Girls Basketball  Tryouts
DESCRIPTION:
URL:https://www.mia-aa.org/event/ms-hs-girls-basketball-tryouts-2
END:VEVENT
BEGIN:VEVENT
DTSTART;TZID=America/New_York:20251104T113000
DTEND;TZID=America/New_York:20251104T123000
DTSTAMP:20260425T093417
CREATED:20250902T134622Z
LAST-MODIFIED:20250902T134622Z
UID:10000332-1762255800-1762259400@www.mia-aa.org
SUMMARY:Food Pantry
DESCRIPTION:
URL:https://www.mia-aa.org/event/food-pantry-4
END:VEVENT
BEGIN:VEVENT
DTSTART;TZID=America/New_York:20251103T155000
DTEND;TZID=America/New_York:20251103T164500
DTSTAMP:20260425T093417
CREATED:20251103T204016Z
LAST-MODIFIED:20251103T204016Z
UID:10000372-1762185000-1762188300@www.mia-aa.org
SUMMARY:MS/HS Girls Basketball  Tryouts
DESCRIPTION:
URL:https://www.mia-aa.org/event/ms-hs-girls-basketball-tryouts
END:VEVENT
BEGIN:VEVENT
DTSTART;VALUE=DATE:20251102
DTEND;VALUE=DATE:20251103
DTSTAMP:20260425T093417
CREATED:20251028T005523Z
LAST-MODIFIED:20251028T005523Z
UID:10000364-1762041600-1762127999@www.mia-aa.org
SUMMARY:Daylight Saving Time Ends - Clocks "Fall Back" One Hour
DESCRIPTION:
URL:https://www.mia-aa.org/event/daylight-saving-time-ends-clocks-fall-back-one-hour
END:VEVENT
BEGIN:VEVENT
DTSTART;VALUE=DATE:20251031
DTEND;VALUE=DATE:20251101
DTSTAMP:20260425T093417
CREATED:20251028T171944Z
LAST-MODIFIED:20251028T171944Z
UID:10000369-1761868800-1761955199@www.mia-aa.org
SUMMARY:EMU Onsite Admissions: 1st Period (Must Apply First)
DESCRIPTION:
URL:https://www.mia-aa.org/event/emu-onsite-admissions-1st-period-must-apply-first
END:VEVENT
BEGIN:VEVENT
DTSTART;VALUE=DATE:20251031
DTEND;VALUE=DATE:20251101
DTSTAMP:20260425T093417
CREATED:20251013T042931Z
LAST-MODIFIED:20251013T042931Z
UID:10000362-1761868800-1761955199@www.mia-aa.org
SUMMARY:MCA Fall Festival
DESCRIPTION:
URL:https://www.mia-aa.org/event/mca-fall-festival
END:VEVENT
BEGIN:VEVENT
DTSTART;VALUE=DATE:20251031
DTEND;VALUE=DATE:20251101
DTSTAMP:20260425T093417
CREATED:20250805T195134Z
LAST-MODIFIED:20251028T172834Z
UID:10000321-1761868800-1761955199@www.mia-aa.org
SUMMARY:Hearing and Vision Testing
DESCRIPTION:Hearing: Grades PreK\, KG\, 1\, 2\, & 4\nVision: Grades PreK\, KG\, 1\, 3\, 5\, 7\, & 9
URL:https://www.mia-aa.org/event/hearing-and-vision-testing-4
END:VEVENT
BEGIN:VEVENT
DTSTART;VALUE=DATE:20251030
DTEND;VALUE=DATE:20251031
DTSTAMP:20260425T093417
CREATED:20250805T194928Z
LAST-MODIFIED:20251028T172723Z
UID:10000320-1761782400-1761868799@www.mia-aa.org
SUMMARY:Hearing and Vision Testing
DESCRIPTION:Hearing: Grades PreK\, KG\, 1\, 2\, & 4\nVision: Grades PreK\, KG\, 1\, 3\, 5\, 7\, & 9
URL:https://www.mia-aa.org/event/hearing-and-vision-testing-3
END:VEVENT
BEGIN:VEVENT
DTSTART;VALUE=DATE:20251028
DTEND;VALUE=DATE:20251029
DTSTAMP:20260425T093417
CREATED:20250914T234425Z
LAST-MODIFIED:20250914T234425Z
UID:10000344-1761609600-1761695999@www.mia-aa.org
SUMMARY:Boys Basketball Tryouts
DESCRIPTION:
URL:https://www.mia-aa.org/event/boys-basketball-tryouts-2
END:VEVENT
BEGIN:VEVENT
DTSTART;VALUE=DATE:20251028
DTEND;VALUE=DATE:20251029
DTSTAMP:20260425T093417
CREATED:20250429T192014Z
LAST-MODIFIED:20251028T173002Z
UID:10000240-1761609600-1761695999@www.mia-aa.org
SUMMARY:Classroom Spelling Bee (Grades 2–8)
DESCRIPTION:
URL:https://www.mia-aa.org/event/classroom-spelling-bee-grades-3-8-2
END:VEVENT
BEGIN:VEVENT
DTSTART;VALUE=DATE:20251027
DTEND;VALUE=DATE:20251028
DTSTAMP:20260425T093417
CREATED:20250914T234405Z
LAST-MODIFIED:20250914T234405Z
UID:10000343-1761523200-1761609599@www.mia-aa.org
SUMMARY:Boys Basketball Tryouts
DESCRIPTION:
URL:https://www.mia-aa.org/event/boys-basketball-tryouts
END:VEVENT
BEGIN:VEVENT
DTSTART;TZID=America/New_York:20251026T103000
DTEND;TZID=America/New_York:20251026T160000
DTSTAMP:20260425T093417
CREATED:20251028T172121Z
LAST-MODIFIED:20251028T172121Z
UID:10000370-1761474600-1761494400@www.mia-aa.org
SUMMARY:MIA Fall Picnic - Canton Heritage Park
DESCRIPTION:
URL:https://www.mia-aa.org/event/mia-fall-picnic-canton-heritage-park
END:VEVENT
BEGIN:VEVENT
DTSTART;TZID=America/New_York:20251024T150000
DTEND;TZID=America/New_York:20251024T180000
DTSTAMP:20260425T093417
CREATED:20250429T191856Z
LAST-MODIFIED:20250429T191856Z
UID:10000238-1761318000-1761328800@www.mia-aa.org
SUMMARY:Parent-Teacher Conferences
DESCRIPTION:
URL:https://www.mia-aa.org/event/parent-teacher-conferences-3
END:VEVENT
BEGIN:VEVENT
DTSTART;TZID=America/New_York:20251024T110000
DTEND;TZID=America/New_York:20251024T110000
DTSTAMP:20260425T093417
CREATED:20250429T191937Z
LAST-MODIFIED:20250429T191937Z
UID:10000239-1761303600-1761303600@www.mia-aa.org
SUMMARY:All School Early Dismissal
DESCRIPTION:
URL:https://www.mia-aa.org/event/all-school-early-dismissal
END:VEVENT
BEGIN:VEVENT
DTSTART;VALUE=DATE:20251024
DTEND;VALUE=DATE:20251025
DTSTAMP:20260425T093417
CREATED:20250928T211318Z
LAST-MODIFIED:20250928T211318Z
UID:10000350-1761264000-1761350399@www.mia-aa.org
SUMMARY:University of Detroit Mercy (1st Period)
DESCRIPTION:
URL:https://www.mia-aa.org/event/university-of-detroit-mercy-1st-period
END:VEVENT
BEGIN:VEVENT
DTSTART;VALUE=DATE:20251023
DTEND;VALUE=DATE:20251024
DTSTAMP:20260425T093417
CREATED:20250429T191818Z
LAST-MODIFIED:20250429T191818Z
UID:10000237-1761177600-1761263999@www.mia-aa.org
SUMMARY:NHS/NJHS/NEHS Induction
DESCRIPTION:
URL:https://www.mia-aa.org/event/nhs-njhs-nehs-induction-2
END:VEVENT
BEGIN:VEVENT
DTSTART;VALUE=DATE:20251022
DTEND;VALUE=DATE:20251023
DTSTAMP:20260425T093417
CREATED:20250429T191745Z
LAST-MODIFIED:20250429T191745Z
UID:10000236-1761091200-1761177599@www.mia-aa.org
SUMMARY:Hearing and Vision Testing
DESCRIPTION:
URL:https://www.mia-aa.org/event/hearing-and-vision-testing-2
END:VEVENT
BEGIN:VEVENT
DTSTART;VALUE=DATE:20251021
DTEND;VALUE=DATE:20251024
DTSTAMP:20260425T093417
CREATED:20251020T183033Z
LAST-MODIFIED:20251020T183033Z
UID:10000363-1761004800-1761263999@www.mia-aa.org
SUMMARY:Salah Workshop
DESCRIPTION:
URL:https://www.mia-aa.org/event/salah-workshop
END:VEVENT
BEGIN:VEVENT
DTSTART;VALUE=DATE:20251021
DTEND;VALUE=DATE:20251022
DTSTAMP:20260425T093417
CREATED:20250429T191713Z
LAST-MODIFIED:20250429T191713Z
UID:10000235-1761004800-1761091199@www.mia-aa.org
SUMMARY:Hearing and Vision Testing
DESCRIPTION:
URL:https://www.mia-aa.org/event/hearing-and-vision-testing
END:VEVENT
BEGIN:VEVENT
DTSTART;VALUE=DATE:20251021
DTEND;VALUE=DATE:20251022
DTSTAMP:20260425T093417
CREATED:20250429T191635Z
LAST-MODIFIED:20250805T194726Z
UID:10000234-1761004800-1761091199@www.mia-aa.org
SUMMARY:Beginning of Term 2
DESCRIPTION:
URL:https://www.mia-aa.org/event/beginning-of-term-2-2
END:VEVENT
BEGIN:VEVENT
DTSTART;TZID=America/New_York:20251019T093000
DTEND;TZID=America/New_York:20251019T113000
DTSTAMP:20260425T093417
CREATED:20251006T131001Z
LAST-MODIFIED:20251006T131001Z
UID:10000353-1760866200-1760873400@www.mia-aa.org
SUMMARY:Board Meeting
DESCRIPTION:
URL:https://www.mia-aa.org/event/board-meeting
LOCATION:Virtual
END:VEVENT
BEGIN:VEVENT
DTSTART;VALUE=DATE:20251017
DTEND;VALUE=DATE:20251018
DTSTAMP:20260425T093417
CREATED:20250928T211234Z
LAST-MODIFIED:20250928T211234Z
UID:10000349-1760659200-1760745599@www.mia-aa.org
SUMMARY:EMU Onsite Admissions (Must Submit Application First)
DESCRIPTION:
URL:https://www.mia-aa.org/event/emu-onsite-admissions-must-submit-application-first
END:VEVENT
BEGIN:VEVENT
DTSTART;VALUE=DATE:20251017
DTEND;VALUE=DATE:20251018
DTSTAMP:20260425T093417
CREATED:20250429T191602Z
LAST-MODIFIED:20250805T194447Z
UID:10000233-1760659200-1760745599@www.mia-aa.org
SUMMARY:End of Term 1
DESCRIPTION:
URL:https://www.mia-aa.org/event/end-of-term-1-2
END:VEVENT
BEGIN:VEVENT
DTSTART;TZID=America/New_York:20251015T103000
DTEND;TZID=America/New_York:20251015T130000
DTSTAMP:20260425T093417
CREATED:20250914T234107Z
LAST-MODIFIED:20250914T234107Z
UID:10000340-1760524200-1760533200@www.mia-aa.org
SUMMARY:PSAT/NMSQT Exam
DESCRIPTION:
URL:https://www.mia-aa.org/event/psat-nmsqt-exam
END:VEVENT
BEGIN:VEVENT
DTSTART;TZID=America/New_York:20251012T150000
DTEND;TZID=America/New_York:20251012T160000
DTSTAMP:20260425T093417
CREATED:20250922T133311Z
LAST-MODIFIED:20250922T133311Z
UID:10000346-1760281200-1760284800@www.mia-aa.org
SUMMARY:Town Hall Meeting
DESCRIPTION:
URL:https://www.mia-aa.org/event/town-hall-meeting
LOCATION:Gym
END:VEVENT
END:VCALENDAR